BEGIN:VCALENDAR
VERSION:2.0
PRODID:-//Chetham’s International Piano Summer School - ECPv6.0.4//NONSGML v1.0//EN
CALSCALE:GREGORIAN
METHOD:PUBLISH
X-WR-CALNAME:Chetham’s International Piano Summer School
X-ORIGINAL-URL:https://pianosummerschool.com
X-WR-CALDESC:Events for Chetham’s International Piano Summer School
REFRESH-INTERVAL;VALUE=DURATION:PT1H
X-Robots-Tag:noindex
X-PUBLISHED-TTL:PT1H
BEGIN:VTIMEZONE
TZID:Europe/London
BEGIN:DAYLIGHT
TZOFFSETFROM:+0000
TZOFFSETTO:+0100
TZNAME:BST
DTSTART:20210328T010000
END:DAYLIGHT
BEGIN:STANDARD
TZOFFSETFROM:+0100
TZOFFSETTO:+0000
TZNAME:GMT
DTSTART:20211031T010000
END:STANDARD
END:VTIMEZONE
BEGIN:VEVENT
DTSTART;TZID=Europe/London:20210820T113000
DTEND;TZID=Europe/London:20210820T130000
DTSTAMP:20260425T211232
CREATED:20191114T112244Z
LAST-MODIFIED:20201113T135236Z
UID:1208-1629459000-1629464400@pianosummerschool.com
SUMMARY:Adult Amateur Workshop
DESCRIPTION:The final workshop of part one. Don’t miss out on the opportunity to play to Philip Fowke and Kathryn Page. Everyone very welcome to come up and play\, even just a few bars. \n                                                        \n 
URL:https://pianosummerschool.com/event/adult-amateur-workshop-4/
LOCATION:Whiteley Hall
CATEGORIES:Workshops
END:VEVENT
BEGIN:VEVENT
DTSTART;TZID=Europe/London:20210820T153000
DTEND;TZID=Europe/London:20210820T163000
DTSTAMP:20260425T211232
CREATED:20201115T110019Z
LAST-MODIFIED:20201115T110019Z
UID:2486-1629473400-1629477000@pianosummerschool.com
SUMMARY:Drop in performance class
DESCRIPTION:An informal class where  everyone can come along between lessons and practise to play their piece to a member of the faculty on a lovely concert grand piano. \n \n 
URL:https://pianosummerschool.com/event/drop-in-performance-class-4/
LOCATION:Whiteley Hall
CATEGORIES:Workshops
END:VEVENT
END:VCALENDAR