BEGIN:VCALENDAR
VERSION:2.0
PRODID:-//Chetham’s International Piano Summer School - ECPv6.0.4//NONSGML v1.0//EN
CALSCALE:GREGORIAN
METHOD:PUBLISH
X-ORIGINAL-URL:https://pianosummerschool.com
X-WR-CALDESC:Events for Chetham’s International Piano Summer School
REFRESH-INTERVAL;VALUE=DURATION:PT1H
X-Robots-Tag:noindex
X-PUBLISHED-TTL:PT1H
BEGIN:VTIMEZONE
TZID:Europe/London
BEGIN:DAYLIGHT
TZOFFSETFROM:+0000
TZOFFSETTO:+0100
TZNAME:BST
DTSTART:20210328T010000
END:DAYLIGHT
BEGIN:STANDARD
TZOFFSETFROM:+0100
TZOFFSETTO:+0000
TZNAME:GMT
DTSTART:20211031T010000
END:STANDARD
END:VTIMEZONE
BEGIN:VEVENT
DTSTART;TZID=Europe/London:20210822T113000
DTEND;TZID=Europe/London:20210822T130000
DTSTAMP:20260425T181742
CREATED:20191114T113253Z
LAST-MODIFIED:20201113T135339Z
UID:1212-1629631800-1629637200@pianosummerschool.com
SUMMARY:Adult Amateur Workshop
DESCRIPTION:The first workshop for the adult amateur course on part two. Everyone is very welcome to come and play or just observe. Philip Fowke and Kathryn Page guarantee a very warm welcome.
URL:https://pianosummerschool.com/event/adult-amateur-workshop-5/
LOCATION:Whiteley Hall
CATEGORIES:Workshops
END:VEVENT
END:VCALENDAR