BEGIN:VCALENDAR
VERSION:2.0
PRODID:-//Chetham’s International Piano Summer School - ECPv6.0.4//NONSGML v1.0//EN
CALSCALE:GREGORIAN
METHOD:PUBLISH
X-WR-CALNAME:Chetham’s International Piano Summer School
X-ORIGINAL-URL:https://pianosummerschool.com
X-WR-CALDESC:Events for Chetham’s International Piano Summer School
REFRESH-INTERVAL;VALUE=DURATION:PT1H
X-Robots-Tag:noindex
X-PUBLISHED-TTL:PT1H
BEGIN:VTIMEZONE
TZID:Europe/London
BEGIN:DAYLIGHT
TZOFFSETFROM:+0000
TZOFFSETTO:+0100
TZNAME:BST
DTSTART:20210328T010000
END:DAYLIGHT
BEGIN:STANDARD
TZOFFSETFROM:+0100
TZOFFSETTO:+0000
TZNAME:GMT
DTSTART:20211031T010000
END:STANDARD
END:VTIMEZONE
BEGIN:VEVENT
DTSTART;TZID=Europe/London:20210823T153000
DTEND;TZID=Europe/London:20210823T163000
DTSTAMP:20260425T181656
CREATED:20201115T110247Z
LAST-MODIFIED:20201115T110247Z
UID:2488-1629732600-1629736200@pianosummerschool.com
SUMMARY:Drop in performance class
DESCRIPTION:New for 2021 – an informal class where  everyone can come along between lessons and practise to play their piece to a member of the faculty on a lovely concert grand piano. \n \n 
URL:https://pianosummerschool.com/event/drop-in-performance-class-5/
LOCATION:Whiteley Hall
CATEGORIES:Workshops
END:VEVENT
END:VCALENDAR