BEGIN:VCALENDAR
VERSION:2.0
PRODID:-//Chetham’s International Piano Summer School - ECPv6.0.4//NONSGML v1.0//EN
CALSCALE:GREGORIAN
METHOD:PUBLISH
X-ORIGINAL-URL:https://pianosummerschool.com
X-WR-CALDESC:Events for Chetham’s International Piano Summer School
REFRESH-INTERVAL;VALUE=DURATION:PT1H
X-Robots-Tag:noindex
X-PUBLISHED-TTL:PT1H
BEGIN:VTIMEZONE
TZID:Europe/London
BEGIN:DAYLIGHT
TZOFFSETFROM:+0000
TZOFFSETTO:+0100
TZNAME:BST
DTSTART:20210328T010000
END:DAYLIGHT
BEGIN:STANDARD
TZOFFSETFROM:+0100
TZOFFSETTO:+0000
TZNAME:GMT
DTSTART:20211031T010000
END:STANDARD
END:VTIMEZONE
BEGIN:VEVENT
DTSTART;TZID=Europe/London:20210824T171500
DTEND;TZID=Europe/London:20210824T180000
DTSTAMP:20260425T181738
CREATED:20201109T175424Z
LAST-MODIFIED:20210105T172008Z
UID:2446-1629825300-1629828000@pianosummerschool.com
SUMMARY:An audience with Paul Lewis
DESCRIPTION:We are thrilled to welcome Paul Lewis to the Summer school. \nPaul\, a former student of Chetham’s\, is internationally regarded as one of the leading musicians of his generation. His cycles of core piano works by Beethoven and Schubert have received unanimous critical and public acclaim worldwide\, and consolidated his reputation as one of the world’s foremost interpreters of the central European classical repertoire. His numerous awards have included the Royal Philharmonic Society’s Instrumentalist of the Year\, two Edison awards\, three Gramophone awards\, the Diapason D’or de l’Annee\, the Preis Der Deutschen Schallplattenkritik\, the Premio Internazionale Accademia Musicale Chigiana\, and the South Bank Show Classical Music award. He holds honorary degrees from Liverpool\, Edge Hill\, and Southampton Universities\, and was appointed Commander of the Order of the British Empire (CBE) in the 2016 Queen’s Birthday Honours. \n  \n \n 
URL:https://pianosummerschool.com/event/an-audience-with-paul-lewis/
LOCATION:Whiteley Hall
CATEGORIES:Lectures
END:VEVENT
END:VCALENDAR