BEGIN:VCALENDAR
VERSION:2.0
PRODID:-//Chetham’s International Piano Summer School - ECPv6.0.4//NONSGML v1.0//EN
CALSCALE:GREGORIAN
METHOD:PUBLISH
X-ORIGINAL-URL:https://pianosummerschool.com
X-WR-CALDESC:Events for Chetham’s International Piano Summer School
REFRESH-INTERVAL;VALUE=DURATION:PT1H
X-Robots-Tag:noindex
X-PUBLISHED-TTL:PT1H
BEGIN:VTIMEZONE
TZID:Europe/London
BEGIN:DAYLIGHT
TZOFFSETFROM:+0000
TZOFFSETTO:+0100
TZNAME:BST
DTSTART:20240331T010000
END:DAYLIGHT
BEGIN:STANDARD
TZOFFSETFROM:+0100
TZOFFSETTO:+0000
TZNAME:GMT
DTSTART:20241027T010000
END:STANDARD
END:VTIMEZONE
BEGIN:VEVENT
DTSTART;TZID=Europe/London:20240809T144500
DTEND;TZID=Europe/London:20240809T153000
DTSTAMP:20260425T003650
CREATED:20221027T144625Z
LAST-MODIFIED:20231211T140915Z
UID:3343-1723214700-1723217400@pianosummerschool.com
SUMMARY:Junior Foundation 'drop in' performance class
DESCRIPTION:Every day come along to hear other young pianists playing on a grand piano\, in front of a supportive audience and member of the faculty. \n \n  \n  \n 
URL:https://pianosummerschool.com/event/junior-foundation-drop-in-performance-class/
LOCATION:G06
CATEGORIES:Junior Course,Participant Recitals,Workshops
END:VEVENT
BEGIN:VEVENT
DTSTART;TZID=Europe/London:20240811T161500
DTEND;TZID=Europe/London:20240811T170000
DTSTAMP:20260425T003651
CREATED:20221027T153758Z
LAST-MODIFIED:20231211T140645Z
UID:3388-1723392900-1723395600@pianosummerschool.com
SUMMARY:'Drop in' performance class
DESCRIPTION:An exciting addition to the course – a daily opportunity to perform and hear other pianists on the course in a very informal performance session\, hosted by a member of the faculty. All welcome. \n \n  \n 
URL:https://pianosummerschool.com/event/drop-in-performance-class-8/
LOCATION:G06
CATEGORIES:Participant Recitals,Workshops
END:VEVENT
BEGIN:VEVENT
DTSTART;TZID=Europe/London:20240812T161500
DTEND;TZID=Europe/London:20240812T170000
DTSTAMP:20260425T003651
CREATED:20221027T153942Z
LAST-MODIFIED:20231211T140710Z
UID:3391-1723479300-1723482000@pianosummerschool.com
SUMMARY:'Drop in' performance class
DESCRIPTION:The final performance class on part one! Don’t miss this opportunity to perform in front of friends on a superb grand piano. Pop in anytime you are free. \n \n 
URL:https://pianosummerschool.com/event/drop-in-performance-class-9/
LOCATION:G06
CATEGORIES:Participant Recitals,Workshops
END:VEVENT
BEGIN:VEVENT
DTSTART;TZID=Europe/London:20240812T170000
DTEND;TZID=Europe/London:20240812T180000
DTSTAMP:20260425T003651
CREATED:20191122T122341Z
LAST-MODIFIED:20231204T152129Z
UID:1525-1723482000-1723485600@pianosummerschool.com
SUMMARY:Participant recitals
DESCRIPTION:An opportunity for participants to perform on the outstanding grand pianos in all of the halls and performance spaces. Observers warmly welcomed. \n 
URL:https://pianosummerschool.com/event/participant-recitals-4/
CATEGORIES:Participant Recitals
END:VEVENT
BEGIN:VEVENT
DTSTART;TZID=Europe/London:20240813T090000
DTEND;TZID=Europe/London:20240813T110000
DTSTAMP:20260425T003651
CREATED:20191116T150954Z
LAST-MODIFIED:20231204T135727Z
UID:1398-1723539600-1723546800@pianosummerschool.com
SUMMARY:Junior Course Final Concert
DESCRIPTION:All the young pianists on both junior courses have the opportunity to perform on the final morning\, and receive a certificate of participation. \nFamily and friends will be welcome to come and listen. \n 
URL:https://pianosummerschool.com/event/final-course-concerts/
LOCATION:Oglesby Atrium
CATEGORIES:Junior Course,Participant Recitals
END:VEVENT
BEGIN:VEVENT
DTSTART;TZID=Europe/London:20240817T170000
DTEND;TZID=Europe/London:20240817T180000
DTSTAMP:20260425T003651
CREATED:20191122T122042Z
LAST-MODIFIED:20231204T152211Z
UID:1521-1723914000-1723917600@pianosummerschool.com
SUMMARY:Participant recitals
DESCRIPTION:Another opportunity to perform on a concert grand piano including Steinway\, Bösendorfer\, Yamaha\, Schimmel in one of the recital rooms. Make sure to choose this option on the application form.
URL:https://pianosummerschool.com/event/participant-recitals-3/
CATEGORIES:Participant Recitals
END:VEVENT
END:VCALENDAR