BEGIN:VCALENDAR
VERSION:2.0
PRODID:-//Chetham’s International Piano Summer School - ECPv6.0.4//NONSGML v1.0//EN
CALSCALE:GREGORIAN
METHOD:PUBLISH
X-ORIGINAL-URL:https://pianosummerschool.com
X-WR-CALDESC:Events for Chetham’s International Piano Summer School
REFRESH-INTERVAL;VALUE=DURATION:PT1H
X-Robots-Tag:noindex
X-PUBLISHED-TTL:PT1H
BEGIN:VTIMEZONE
TZID:Europe/London
BEGIN:DAYLIGHT
TZOFFSETFROM:+0000
TZOFFSETTO:+0100
TZNAME:BST
DTSTART:20250330T010000
END:DAYLIGHT
BEGIN:STANDARD
TZOFFSETFROM:+0100
TZOFFSETTO:+0000
TZNAME:GMT
DTSTART:20251026T010000
END:STANDARD
END:VTIMEZONE
BEGIN:VEVENT
DTSTART;TZID=Europe/London:20250815T144500
DTEND;TZID=Europe/London:20250815T153000
DTSTAMP:20260423T220714
CREATED:20221027T145751Z
LAST-MODIFIED:20241107T165350Z
UID:3356-1755269100-1755271800@pianosummerschool.com
SUMMARY:Junior Foundation 'drop in' performance class
DESCRIPTION:Every day come along to hear other young pianists playing on a grand piano\, in front of a supportive audience and member of the faculty. A wonderful way to hear amazing music and to get a chance to perform yourself. Everyone welcome. \n \n  \n  \n 
URL:https://pianosummerschool.com/event/junior-foundation-drop-in-performance-class-7/
LOCATION:G06
CATEGORIES:Junior Course,Participant Recitals,Workshops
END:VEVENT
BEGIN:VEVENT
DTSTART;TZID=Europe/London:20250815T153000
DTEND;TZID=Europe/London:20250815T161500
DTSTAMP:20260423T220714
CREATED:20221027T152418Z
LAST-MODIFIED:20241107T165916Z
UID:3378-1755271800-1755274500@pianosummerschool.com
SUMMARY:Junior Advanced 'drop in' performance class
DESCRIPTION:Don’t miss this opportunity to perform in front of friends on the Advanced Junior Course. Pop in anytime you are free. \n \n 
URL:https://pianosummerschool.com/event/junior-advanced-drop-in-performance-class-7/
LOCATION:G06
CATEGORIES:Junior Course,Participant Recitals,Workshops
END:VEVENT
BEGIN:VEVENT
DTSTART;TZID=Europe/London:20250815T161500
DTEND;TZID=Europe/London:20250815T170000
DTSTAMP:20260423T220714
CREATED:20221027T154924Z
LAST-MODIFIED:20241107T162938Z
UID:3397-1755274500-1755277200@pianosummerschool.com
SUMMARY:'Drop in' performance class
DESCRIPTION:An exciting addition to the course – a daily opportunity to perform and hear other pianists on the course in a very informal performance session\, hosted by a member of the faculty. All welcome. \n \n  \n 
URL:https://pianosummerschool.com/event/drop-in-performance-class-12/
LOCATION:G06
CATEGORIES:Participant Recitals,Workshops
END:VEVENT
END:VCALENDAR