BEGIN:VCALENDAR
VERSION:2.0
PRODID:-//Chetham’s International Piano Summer School - ECPv6.0.4//NONSGML v1.0//EN
CALSCALE:GREGORIAN
METHOD:PUBLISH
X-ORIGINAL-URL:https://pianosummerschool.com
X-WR-CALDESC:Events for Chetham’s International Piano Summer School
REFRESH-INTERVAL;VALUE=DURATION:PT1H
X-Robots-Tag:noindex
X-PUBLISHED-TTL:PT1H
BEGIN:VTIMEZONE
TZID:Europe/London
BEGIN:DAYLIGHT
TZOFFSETFROM:+0000
TZOFFSETTO:+0100
TZNAME:BST
DTSTART:20250330T010000
END:DAYLIGHT
BEGIN:STANDARD
TZOFFSETFROM:+0100
TZOFFSETTO:+0000
TZNAME:GMT
DTSTART:20251026T010000
END:STANDARD
END:VTIMEZONE
BEGIN:VEVENT
DTSTART;TZID=Europe/London:20250817T144500
DTEND;TZID=Europe/London:20250817T153000
DTSTAMP:20260424T153326
CREATED:20221027T145832Z
LAST-MODIFIED:20241107T164417Z
UID:3359-1755441900-1755444600@pianosummerschool.com
SUMMARY:Junior Foundation 'drop in' performance class
DESCRIPTION:The final ‘drop-in’ performance class for the Foundation Junior Course on part one. Come along and perform on a beautiful piano with a supportive audience. \n \n  \n  \n 
URL:https://pianosummerschool.com/event/junior-foundation-drop-in-performance-class-8/
LOCATION:G06
CATEGORIES:Junior Course,Participant Recitals,Workshops
END:VEVENT
BEGIN:VEVENT
DTSTART;TZID=Europe/London:20250817T161500
DTEND;TZID=Europe/London:20250817T170000
DTSTAMP:20260424T153326
CREATED:20221027T155111Z
LAST-MODIFIED:20241107T163223Z
UID:3401-1755447300-1755450000@pianosummerschool.com
SUMMARY:'Drop in' performance class
DESCRIPTION:The final opportunity on  part one to perform in this informal setting\, to an audience of supportive participants. \n \n  \n 
URL:https://pianosummerschool.com/event/drop-in-performance-class-13/
LOCATION:G06
CATEGORIES:Participant Recitals,Workshops
END:VEVENT
BEGIN:VEVENT
DTSTART;TZID=Europe/London:20250817T170000
DTEND;TZID=Europe/London:20250817T180000
DTSTAMP:20260424T153326
CREATED:20201109T153844Z
LAST-MODIFIED:20241108T183926Z
UID:2404-1755450000-1755453600@pianosummerschool.com
SUMMARY:Participant recitals
DESCRIPTION:All participants have the opportunity to perform on one of the concert grand pianos in the recital rooms. Steinway\, Schimmel\, Bösendorfer\, Yamaha and Bechstein are some of the models available. \nMake sure to sign up when applying online. \n \nCarole Nash Recital Hall
URL:https://pianosummerschool.com/event/participant-recitals-7/
CATEGORIES:Participant Recitals
END:VEVENT
END:VCALENDAR