BEGIN:VCALENDAR
VERSION:2.0
PRODID:-//Chetham’s International Piano Summer School - ECPv6.0.4//NONSGML v1.0//EN
CALSCALE:GREGORIAN
METHOD:PUBLISH
X-ORIGINAL-URL:https://pianosummerschool.com
X-WR-CALDESC:Events for Chetham’s International Piano Summer School
REFRESH-INTERVAL;VALUE=DURATION:PT1H
X-Robots-Tag:noindex
X-PUBLISHED-TTL:PT1H
BEGIN:VTIMEZONE
TZID:Europe/London
BEGIN:DAYLIGHT
TZOFFSETFROM:+0000
TZOFFSETTO:+0100
TZNAME:BST
DTSTART:20250330T010000
END:DAYLIGHT
BEGIN:STANDARD
TZOFFSETFROM:+0100
TZOFFSETTO:+0000
TZNAME:GMT
DTSTART:20251026T010000
END:STANDARD
END:VTIMEZONE
BEGIN:VEVENT
DTSTART;TZID=Europe/London:20250819T144500
DTEND;TZID=Europe/London:20250819T153000
DTSTAMP:20260424T153401
CREATED:20221027T145541Z
LAST-MODIFIED:20241108T123556Z
UID:3351-1755614700-1755617400@pianosummerschool.com
SUMMARY:Junior Foundation 'drop in' performance class
DESCRIPTION:Part two continues with the first drop in performance class for the Junior Foundation pianists. \nA great opportunity to play on a beautiful grand piano in front of a small\, friendly audience. \n \n  \n  \n 
URL:https://pianosummerschool.com/event/junior-foundation-drop-in-performance-class-5/
LOCATION:G06
CATEGORIES:Junior Course,Participant Recitals,Workshops
END:VEVENT
BEGIN:VEVENT
DTSTART;TZID=Europe/London:20250819T153000
DTEND;TZID=Europe/London:20250819T161500
DTSTAMP:20260424T153401
CREATED:20221027T150500Z
LAST-MODIFIED:20241108T124300Z
UID:3365-1755617400-1755620100@pianosummerschool.com
SUMMARY:Junior Advanced 'drop in' performance class
DESCRIPTION:The  daily opportunity to perform on a wonderful grand piano\, supported by the other young pianists on the course. \n \n 
URL:https://pianosummerschool.com/event/junior-advanced-drop-in-performance-class-3/
LOCATION:G06
CATEGORIES:Junior Course,Participant Recitals,Workshops
END:VEVENT
BEGIN:VEVENT
DTSTART;TZID=Europe/London:20250819T160000
DTEND;TZID=Europe/London:20250819T164500
DTSTAMP:20260424T153401
CREATED:20221027T150357Z
LAST-MODIFIED:20241108T123352Z
UID:3363-1755619200-1755621900@pianosummerschool.com
SUMMARY:'Drop in' performance class
DESCRIPTION:Continuing on from the success of these ‘drop-in’ classes last year\, we are delighted to have an open door to all pianists wanting to try out a piece in a small and friendly room\, encouraged by a member of the faculty. \n \n  \n 
URL:https://pianosummerschool.com/event/junior-advanced-drop-in-performance-class-2/
LOCATION:G06
CATEGORIES:Participant Recitals,Workshops
END:VEVENT
BEGIN:VEVENT
DTSTART;TZID=Europe/London:20250819T220000
DTEND;TZID=Europe/London:20250819T230000
DTSTAMP:20260424T153401
CREATED:20201109T155700Z
LAST-MODIFIED:20241108T184727Z
UID:2415-1755640800-1755644400@pianosummerschool.com
SUMMARY:Late Night Participant recitals
DESCRIPTION:Late night recital opportunities in all of the recital halls throughout the school. All participants have the opportunity to perform on one of the concert grand pianos in the recital rooms. Steinway\, Schimmel\, Bösendorfer\, Yamaha and Bechstein are some of the models available. \nMake sure to sign up when applying online. \n  \n \nBaronial Hall
URL:https://pianosummerschool.com/event/late-night-participant-recitals-2/
CATEGORIES:Participant Recitals
END:VEVENT
END:VCALENDAR