BEGIN:VCALENDAR
VERSION:2.0
PRODID:-//Chetham’s International Piano Summer School - ECPv6.0.4//NONSGML v1.0//EN
CALSCALE:GREGORIAN
METHOD:PUBLISH
X-ORIGINAL-URL:https://pianosummerschool.com
X-WR-CALDESC:Events for Chetham’s International Piano Summer School
REFRESH-INTERVAL;VALUE=DURATION:PT1H
X-Robots-Tag:noindex
X-PUBLISHED-TTL:PT1H
BEGIN:VTIMEZONE
TZID:Europe/London
BEGIN:DAYLIGHT
TZOFFSETFROM:+0000
TZOFFSETTO:+0100
TZNAME:BST
DTSTART:20250330T010000
END:DAYLIGHT
BEGIN:STANDARD
TZOFFSETFROM:+0100
TZOFFSETTO:+0000
TZNAME:GMT
DTSTART:20251026T010000
END:STANDARD
END:VTIMEZONE
BEGIN:VEVENT
DTSTART;TZID=Europe/London:20250820T144500
DTEND;TZID=Europe/London:20250820T153000
DTSTAMP:20260423T233244
CREATED:20221027T144942Z
LAST-MODIFIED:20241108T123920Z
UID:3348-1755701100-1755703800@pianosummerschool.com
SUMMARY:Junior Foundation 'drop in' performance class
DESCRIPTION:Every day come along to hear other young pianists playing on a grand piano\, in front of a supportive audience and member of the faculty. A wonderful way to hear amazing music and to get a chance to perform yourself. Everyone welcome. If you have a duet\, the member of faculty would love to play with you. \n \n  \n  \n 
URL:https://pianosummerschool.com/event/junior-foundation-drop-in-performance-class-3/
LOCATION:G06
CATEGORIES:Junior Course,Participant Recitals,Workshops
END:VEVENT
BEGIN:VEVENT
DTSTART;TZID=Europe/London:20250820T153000
DTEND;TZID=Europe/London:20250820T161500
DTSTAMP:20260423T233244
CREATED:20221027T150203Z
LAST-MODIFIED:20241108T124644Z
UID:3361-1755703800-1755706500@pianosummerschool.com
SUMMARY:Junior Advanced 'drop in' performance class
DESCRIPTION:The daily perfomance class for all Junior Pianists on the Advanced Course. An exciting opportunity to play on a beautiful grand piano in front of a small\, friendly audience. \n \n 
URL:https://pianosummerschool.com/event/junior-advanced-drop-in-performance-class/
LOCATION:G06
CATEGORIES:Junior Course,Participant Recitals,Workshops
END:VEVENT
BEGIN:VEVENT
DTSTART;TZID=Europe/London:20250820T220000
DTEND;TZID=Europe/London:20250820T230000
DTSTAMP:20260423T233244
CREATED:20201109T155530Z
LAST-MODIFIED:20241108T184818Z
UID:2413-1755727200-1755730800@pianosummerschool.com
SUMMARY:Late Night Participant recitals
DESCRIPTION:With up to 6 recitals taking place tonight\, do make sure to go and support the pianists performing. Amazing repertoire and outstanding performances guaranteed! \n 
URL:https://pianosummerschool.com/event/late-night-participant-recitals/
CATEGORIES:Participant Recitals
END:VEVENT
END:VCALENDAR