BEGIN:VCALENDAR
VERSION:2.0
PRODID:-//Chetham’s International Piano Summer School - ECPv6.0.4//NONSGML v1.0//EN
CALSCALE:GREGORIAN
METHOD:PUBLISH
X-ORIGINAL-URL:https://pianosummerschool.com
X-WR-CALDESC:Events for Chetham’s International Piano Summer School
REFRESH-INTERVAL;VALUE=DURATION:PT1H
X-Robots-Tag:noindex
X-PUBLISHED-TTL:PT1H
BEGIN:VTIMEZONE
TZID:Europe/London
BEGIN:DAYLIGHT
TZOFFSETFROM:+0000
TZOFFSETTO:+0100
TZNAME:BST
DTSTART:20260329T010000
END:DAYLIGHT
BEGIN:STANDARD
TZOFFSETFROM:+0100
TZOFFSETTO:+0000
TZNAME:GMT
DTSTART:20261025T010000
END:STANDARD
END:VTIMEZONE
BEGIN:VEVENT
DTSTART;TZID=Europe/London:20260813T153000
DTEND;TZID=Europe/London:20260813T161500
DTSTAMP:20260421T173012
CREATED:20251115T133753Z
LAST-MODIFIED:20251115T133753Z
UID:6002-1786635000-1786637700@pianosummerschool.com
SUMMARY:Junior Course 'drop in' performance class
DESCRIPTION:A  wonderful opportunity to perform on a beautiful grand piano in front of a small\, friendly audience. \n \n 
URL:https://pianosummerschool.com/event/junior-course-drop-in-performance-class/
LOCATION:G06
CATEGORIES:Junior Course,Participant Recitals,Workshops
END:VEVENT
BEGIN:VEVENT
DTSTART;TZID=Europe/London:20260813T161500
DTEND;TZID=Europe/London:20260813T170000
DTSTAMP:20260421T173012
CREATED:20221027T154038Z
LAST-MODIFIED:20251115T153358Z
UID:3393-1786637700-1786640400@pianosummerschool.com
SUMMARY:'Drop in' performance class
DESCRIPTION:We are delighted to have an open door to all pianists wanting to try out a piece in a small and friendly room\, encouraged by a member of the faculty. Every day on part one come and join us! \n \n  \n 
URL:https://pianosummerschool.com/event/drop-in-performance-class-10/
LOCATION:G06
CATEGORIES:Participant Recitals,Workshops
END:VEVENT
END:VCALENDAR