BEGIN:VCALENDAR
VERSION:2.0
PRODID:-//Chetham’s International Piano Summer School - ECPv6.0.4//NONSGML v1.0//EN
CALSCALE:GREGORIAN
METHOD:PUBLISH
X-WR-CALNAME:Chetham’s International Piano Summer School
X-ORIGINAL-URL:https://pianosummerschool.com
X-WR-CALDESC:Events for Chetham’s International Piano Summer School
REFRESH-INTERVAL;VALUE=DURATION:PT1H
X-Robots-Tag:noindex
X-PUBLISHED-TTL:PT1H
BEGIN:VTIMEZONE
TZID:Europe/London
BEGIN:DAYLIGHT
TZOFFSETFROM:+0000
TZOFFSETTO:+0100
TZNAME:BST
DTSTART:20260329T010000
END:DAYLIGHT
BEGIN:STANDARD
TZOFFSETFROM:+0100
TZOFFSETTO:+0000
TZNAME:GMT
DTSTART:20261025T010000
END:STANDARD
END:VTIMEZONE
BEGIN:VEVENT
DTSTART;TZID=Europe/London:20260815T153000
DTEND;TZID=Europe/London:20260815T161500
DTSTAMP:20260421T201917
CREATED:20251115T134132Z
LAST-MODIFIED:20251115T134132Z
UID:6000-1786807800-1786810500@pianosummerschool.com
SUMMARY:Junior Course 'drop in' performance class
DESCRIPTION:Every day Junior Course pianists can enjoy performing on an outstanding grand piano in front of a small and supportive audience\, hosted by a member of the faculty. \n  \n \n  \n  \n 
URL:https://pianosummerschool.com/event/junior-course-drop-in-performance-class-3/
LOCATION:G06
CATEGORIES:Junior Course,Participant Recitals,Workshops
END:VEVENT
BEGIN:VEVENT
DTSTART;TZID=Europe/London:20260815T161500
DTEND;TZID=Europe/London:20260815T170000
DTSTAMP:20260421T201917
CREATED:20251115T153801Z
LAST-MODIFIED:20251115T153801Z
UID:6042-1786810500-1786813200@pianosummerschool.com
SUMMARY:'Drop in' performance class
DESCRIPTION:An exciting addition to the course – a daily opportunity to perform and hear other pianists on the course in a very informal performance session\, hosted by a member of the faculty. All welcome. \n \n  \n 
URL:https://pianosummerschool.com/event/drop-in-performance-class-17/
LOCATION:G06
CATEGORIES:Participant Recitals,Workshops
END:VEVENT
BEGIN:VEVENT
DTSTART;TZID=Europe/London:20260815T220000
DTEND;TZID=Europe/London:20260815T230000
DTSTAMP:20260421T201917
CREATED:20251130T115238Z
LAST-MODIFIED:20251130T115238Z
UID:6260-1786831200-1786834800@pianosummerschool.com
SUMMARY:Late Night Participant recitals
DESCRIPTION:Late night recitals by participants on the course – inspiration and incredibly varied repertoire guaranteed! \n  \n 
URL:https://pianosummerschool.com/event/late-night-participant-recitals-6/
CATEGORIES:Participant Recitals
END:VEVENT
END:VCALENDAR