BEGIN:VCALENDAR
VERSION:2.0
PRODID:-//Chetham’s International Piano Summer School - ECPv6.0.4//NONSGML v1.0//EN
CALSCALE:GREGORIAN
METHOD:PUBLISH
X-WR-CALNAME:Chetham’s International Piano Summer School
X-ORIGINAL-URL:https://pianosummerschool.com
X-WR-CALDESC:Events for Chetham’s International Piano Summer School
REFRESH-INTERVAL;VALUE=DURATION:PT1H
X-Robots-Tag:noindex
X-PUBLISHED-TTL:PT1H
BEGIN:VTIMEZONE
TZID:Europe/London
BEGIN:DAYLIGHT
TZOFFSETFROM:+0000
TZOFFSETTO:+0100
TZNAME:BST
DTSTART:20260329T010000
END:DAYLIGHT
BEGIN:STANDARD
TZOFFSETFROM:+0100
TZOFFSETTO:+0000
TZNAME:GMT
DTSTART:20261025T010000
END:STANDARD
END:VTIMEZONE
BEGIN:VEVENT
DTSTART;TZID=Europe/London:20260817T090000
DTEND;TZID=Europe/London:20260817T111500
DTSTAMP:20260421T185501
CREATED:20201109T154556Z
LAST-MODIFIED:20251115T154717Z
UID:2406-1786957200-1786965300@pianosummerschool.com
SUMMARY:Final morning participant recitals
DESCRIPTION:As CIPSS  part 1 draws to a close\, we look forward to participant recitals throughout the school for over 2 hours. Friends and family welcome to come in and support. \n  \n \n                
URL:https://pianosummerschool.com/event/final-morning-recitals-4/
CATEGORIES:Participant Recitals
END:VEVENT
BEGIN:VEVENT
DTSTART;TZID=Europe/London:20260817T090000
DTEND;TZID=Europe/London:20260817T111500
DTSTAMP:20260421T185501
CREATED:20201109T155224Z
LAST-MODIFIED:20251115T154926Z
UID:2410-1786957200-1786965300@pianosummerschool.com
SUMMARY:Junior Course Final Presentation Concert
DESCRIPTION:As CIPSS part one draws to a close\, we look forward to all the Junior pianists performing and being presented with a certificate of participation from Course Director and Head of Keyboard at Chetham’s – Murray McLachlan .  Friends and family very welcome. \n  \nChetham’s School of Music Atrium\n \n 
URL:https://pianosummerschool.com/event/final-morning-recitals-5/
LOCATION:Oglesby Atrium
CATEGORIES:Junior Course,Participant Recitals
END:VEVENT
END:VCALENDAR