BEGIN:VCALENDAR
VERSION:2.0
PRODID:-//Chetham’s International Piano Summer School - ECPv6.0.4//NONSGML v1.0//EN
CALSCALE:GREGORIAN
METHOD:PUBLISH
X-WR-CALNAME:Chetham’s International Piano Summer School
X-ORIGINAL-URL:https://pianosummerschool.com
X-WR-CALDESC:Events for Chetham’s International Piano Summer School
REFRESH-INTERVAL;VALUE=DURATION:PT1H
X-Robots-Tag:noindex
X-PUBLISHED-TTL:PT1H
BEGIN:VTIMEZONE
TZID:Europe/London
BEGIN:DAYLIGHT
TZOFFSETFROM:+0000
TZOFFSETTO:+0100
TZNAME:BST
DTSTART:20250330T010000
END:DAYLIGHT
BEGIN:STANDARD
TZOFFSETFROM:+0100
TZOFFSETTO:+0000
TZNAME:GMT
DTSTART:20251026T010000
END:STANDARD
END:VTIMEZONE
BEGIN:VEVENT
DTSTART;TZID=Europe/London:20250815T220000
DTEND;TZID=Europe/London:20250815T233000
DTSTAMP:20260423T094108
CREATED:20241201T164519Z
LAST-MODIFIED:20241201T164519Z
UID:5256-1755295200-1755300600@pianosummerschool.com
SUMMARY:Late Night Jazz Room
DESCRIPTION:A wonderful opportunity  for participants to play some jazz and improvisation in this lovely informal space on a superb grand piano kindly donated by Forsyth Music Shop. \nEnjoy listening with a drink\, or enjoy playing to fellow participants.
URL:https://pianosummerschool.com/event/late-night-jazz-room-2/
LOCATION:G04
CATEGORIES:Jazz Room
END:VEVENT
END:VCALENDAR