BEGIN:VCALENDAR
VERSION:2.0
PRODID:-//Chetham’s International Piano Summer School - ECPv6.0.4//NONSGML v1.0//EN
CALSCALE:GREGORIAN
METHOD:PUBLISH
X-ORIGINAL-URL:https://pianosummerschool.com
X-WR-CALDESC:Events for Chetham’s International Piano Summer School
REFRESH-INTERVAL;VALUE=DURATION:PT1H
X-Robots-Tag:noindex
X-PUBLISHED-TTL:PT1H
BEGIN:VTIMEZONE
TZID:Europe/London
BEGIN:DAYLIGHT
TZOFFSETFROM:+0000
TZOFFSETTO:+0100
TZNAME:BST
DTSTART:20260329T010000
END:DAYLIGHT
BEGIN:STANDARD
TZOFFSETFROM:+0100
TZOFFSETTO:+0000
TZNAME:GMT
DTSTART:20261025T010000
END:STANDARD
END:VTIMEZONE
BEGIN:VEVENT
DTSTART;TZID=Europe/London:20260815T220000
DTEND;TZID=Europe/London:20260815T233000
DTSTAMP:20260422T210511
CREATED:20251130T110929Z
LAST-MODIFIED:20251130T110929Z
UID:6227-1786831200-1786836600@pianosummerschool.com
SUMMARY:Late Night Jazz Room
DESCRIPTION:An exciting chance for participants to explore jazz and improvisation in a relaxed\, welcoming setting\, featuring a magnificent grand piano generously provided by Forsyth Music Shop. \nSit back with a drink and enjoy the sounds\, or step up and share your music with fellow participants.
URL:https://pianosummerschool.com/event/late-night-jazz-room-9/
LOCATION:G04
CATEGORIES:Jazz Room
END:VEVENT
END:VCALENDAR