BEGIN:VCALENDAR
VERSION:2.0
PRODID:-//Chetham’s International Piano Summer School - ECPv6.0.4//NONSGML v1.0//EN
CALSCALE:GREGORIAN
METHOD:PUBLISH
X-WR-CALNAME:Chetham’s International Piano Summer School
X-ORIGINAL-URL:https://pianosummerschool.com
X-WR-CALDESC:Events for Chetham’s International Piano Summer School
REFRESH-INTERVAL;VALUE=DURATION:PT1H
X-Robots-Tag:noindex
X-PUBLISHED-TTL:PT1H
BEGIN:VTIMEZONE
TZID:Europe/London
BEGIN:DAYLIGHT
TZOFFSETFROM:+0000
TZOFFSETTO:+0100
TZNAME:BST
DTSTART:20260329T010000
END:DAYLIGHT
BEGIN:STANDARD
TZOFFSETFROM:+0100
TZOFFSETTO:+0000
TZNAME:GMT
DTSTART:20261025T010000
END:STANDARD
END:VTIMEZONE
BEGIN:VEVENT
DTSTART;TZID=Europe/London:20260817T214500
DTEND;TZID=Europe/London:20260817T214500
DTSTAMP:20260422T192215
CREATED:20191118T125918Z
LAST-MODIFIED:20260106T142300Z
UID:1454-1787003100-1787003100@pianosummerschool.com
SUMMARY:Welcome reception and late night jazz.
DESCRIPTION:A chance to meet friends\, old and new as we celebrate 25 years of CIPSS. Enjoy a complimentary glass of bubbly on us and savour the atmosphere of ‘the friendliest piano summer school’! \nEveryone is welcome to enjoy the ‘Jazz Room’  – an intimate space for both playing and listening to participants playing jazz. The space will be available every evening after the last faculty recital. Not to be missed! \nA short clip from the incredible Steven Osborne and Nikki Iles who enjoyed lots of fun in the Jazz room in 2025. \n\nhttps://pianosummerschool.com/wp-content/uploads/2019/11/Jazz-lesson.mp4\n  \n 
URL:https://pianosummerschool.com/event/welcome-reception/
LOCATION:Oglesby Atrium
CATEGORIES:Jazz Room,Welcome
END:VEVENT
END:VCALENDAR