BEGIN:VCALENDAR
VERSION:2.0
PRODID:-//Chetham’s International Piano Summer School - ECPv6.0.4//NONSGML v1.0//EN
CALSCALE:GREGORIAN
METHOD:PUBLISH
X-ORIGINAL-URL:https://pianosummerschool.com
X-WR-CALDESC:Events for Chetham’s International Piano Summer School
REFRESH-INTERVAL;VALUE=DURATION:PT1H
X-Robots-Tag:noindex
X-PUBLISHED-TTL:PT1H
BEGIN:VTIMEZONE
TZID:Europe/London
BEGIN:DAYLIGHT
TZOFFSETFROM:+0000
TZOFFSETTO:+0100
TZNAME:BST
DTSTART:20200329T010000
END:DAYLIGHT
BEGIN:STANDARD
TZOFFSETFROM:+0100
TZOFFSETTO:+0000
TZNAME:GMT
DTSTART:20201025T010000
END:STANDARD
END:VTIMEZONE
BEGIN:VEVENT
DTSTART;TZID=Europe/London:20200813T103000
DTEND;TZID=Europe/London:20200813T120000
DTSTAMP:20260423T035223
CREATED:20191116T154134Z
LAST-MODIFIED:20191116T154215Z
UID:1409-1597314600-1597320000@pianosummerschool.com
SUMMARY:Advice auditions
DESCRIPTION:An opportunity to play to head of keyboard at Chetham’s Dr Murray McLachlan\, or another member of staff at the school and receive written feedback. Parents are welcome to attend the audition. Space is limited – please book early. \nNB there is a small additional charge for the audition. Please tick the box on the application form.
URL:https://pianosummerschool.com/event/advice-auditions/
CATEGORIES:Junior Course
END:VEVENT
END:VCALENDAR