BEGIN:VCALENDAR
VERSION:2.0
PRODID:-//Chetham’s International Piano Summer School - ECPv6.0.4//NONSGML v1.0//EN
CALSCALE:GREGORIAN
METHOD:PUBLISH
X-WR-CALNAME:Chetham’s International Piano Summer School
X-ORIGINAL-URL:https://pianosummerschool.com
X-WR-CALDESC:Events for Chetham’s International Piano Summer School
REFRESH-INTERVAL;VALUE=DURATION:PT1H
X-Robots-Tag:noindex
X-PUBLISHED-TTL:PT1H
BEGIN:VTIMEZONE
TZID:Europe/London
BEGIN:DAYLIGHT
TZOFFSETFROM:+0000
TZOFFSETTO:+0100
TZNAME:BST
DTSTART:20210328T010000
END:DAYLIGHT
BEGIN:STANDARD
TZOFFSETFROM:+0100
TZOFFSETTO:+0000
TZNAME:GMT
DTSTART:20211031T010000
END:STANDARD
END:VTIMEZONE
BEGIN:VEVENT
DTSTART;VALUE=DATE:20210810
DTEND;VALUE=DATE:20210813
DTSTAMP:20260422T074711
CREATED:20201030T124804Z
LAST-MODIFIED:20201030T124804Z
UID:2045-1628553600-1628812799@pianosummerschool.com
SUMMARY:Junior Academy - Online resources
DESCRIPTION:Daily resources will be sent to all participants. These will include technical warmup exercises\, practise advice and recordings to help develop listening skills. For pianists who are taking the full online course\, individual piano lessons and lessons on extra courses may be timetabled. \n \n 
URL:https://pianosummerschool.com/event/junior-academy-online-resources/
LOCATION:Online
CATEGORIES:Junior Course
END:VEVENT
END:VCALENDAR