BEGIN:VCALENDAR
VERSION:2.0
PRODID:-//Chetham’s International Piano Summer School - ECPv6.0.4//NONSGML v1.0//EN
CALSCALE:GREGORIAN
METHOD:PUBLISH
X-WR-CALNAME:Chetham’s International Piano Summer School
X-ORIGINAL-URL:https://pianosummerschool.com
X-WR-CALDESC:Events for Chetham’s International Piano Summer School
REFRESH-INTERVAL;VALUE=DURATION:PT1H
X-Robots-Tag:noindex
X-PUBLISHED-TTL:PT1H
BEGIN:VTIMEZONE
TZID:Europe/London
BEGIN:DAYLIGHT
TZOFFSETFROM:+0000
TZOFFSETTO:+0100
TZNAME:BST
DTSTART:20210328T010000
END:DAYLIGHT
BEGIN:STANDARD
TZOFFSETFROM:+0100
TZOFFSETTO:+0000
TZNAME:GMT
DTSTART:20211031T010000
END:STANDARD
END:VTIMEZONE
BEGIN:VEVENT
DTSTART;TZID=Europe/London:20210813T120000
DTEND;TZID=Europe/London:20210813T130000
DTSTAMP:20260422T074735
CREATED:20191024T110623Z
LAST-MODIFIED:20210712T084026Z
UID:686-1628856000-1628859600@pianosummerschool.com
SUMMARY:Junior Academy Registration
DESCRIPTION:NB Registration will be 12pm – 1pm. Lunch is served from 1 – 2pm for all residents and those who have pre booked. \nThere is an important welcome meeting at 2pm where all the house staff will be introduced and important information given. \nParticipants arrive to Chetham’s school of music in Manchester to register for the Junior Academy. A team of staff and house parents will help to show everyone the school and take them to the accommodation. Parents are welcome to attend registration. If you are unable to arrive in time for the registration please email info@pianosummerschool.com to confirm your expected arrival time. Lunch will be served at 1.30pm for all resident participants. Non residents are welcome to bring in their own food. \n \n  \n 
URL:https://pianosummerschool.com/event/686/
LOCATION:Oglesby Atrium
CATEGORIES:Junior Course,Registrations
END:VEVENT
BEGIN:VEVENT
DTSTART;TZID=Europe/London:20210813T143000
DTEND;TZID=Europe/London:20210813T160000
DTSTAMP:20260422T074735
CREATED:20191115T161302Z
LAST-MODIFIED:20201030T130357Z
UID:1296-1628865000-1628870400@pianosummerschool.com
SUMMARY:Group class workshops
DESCRIPTION:The Junior Academy at Chetham’s begins with everyone joining together in their group classes. These will be divided into the 4 main course options: \nElementary – with Ruth Aldred \nIntermediate – with Sarah Murphy \nAdvanced – with Gemma Beeson \nYoung artists – with Murray McLachlan \nThroughout the course there will be daily classes to further enhance  individual timetables. All classes will be live-streamed so that participants on the Online course can participate. \n \n  \n 
URL:https://pianosummerschool.com/event/elementary-course-class-session/
CATEGORIES:Junior Course,Workshops
END:VEVENT
BEGIN:VEVENT
DTSTART;TZID=Europe/London:20210813T163000
DTEND;TZID=Europe/London:20210813T183000
DTSTAMP:20260422T074735
CREATED:20201102T172911Z
LAST-MODIFIED:20201102T172911Z
UID:2264-1628872200-1628879400@pianosummerschool.com
SUMMARY:Practise or individual lessons
DESCRIPTION:A chance to enjoy some time to practise in one of the many piano rooms in the school’s  state-of-the-art facilities.  If extra courses or lessons have been booked  individual lessons may be timetabled now as well.
URL:https://pianosummerschool.com/event/practise-or-individual-lessons/
CATEGORIES:Junior Course,Teaching Sessions
END:VEVENT
BEGIN:VEVENT
DTSTART;TZID=Europe/London:20210813T203000
DTEND;TZID=Europe/London:20210813T203000
DTSTAMP:20260422T074735
CREATED:20201102T174148Z
LAST-MODIFIED:20201102T174314Z
UID:2269-1628886600-1628886600@pianosummerschool.com
SUMMARY:Social time
DESCRIPTION:A chance for everyone to unwind at the end of the first day. Non residents leave for the day and the residents can choose from options including socials in house\, fit to perform in the gym\, practise\, duet playing – or relaxing in the house TV lounge. \n \n 
URL:https://pianosummerschool.com/event/social-time/
CATEGORIES:Junior Course
END:VEVENT
END:VCALENDAR