BEGIN:VCALENDAR
VERSION:2.0
PRODID:-//Chetham’s International Piano Summer School - ECPv6.0.4//NONSGML v1.0//EN
CALSCALE:GREGORIAN
METHOD:PUBLISH
X-ORIGINAL-URL:https://pianosummerschool.com
X-WR-CALDESC:Events for Chetham’s International Piano Summer School
REFRESH-INTERVAL;VALUE=DURATION:PT1H
X-Robots-Tag:noindex
X-PUBLISHED-TTL:PT1H
BEGIN:VTIMEZONE
TZID:Europe/London
BEGIN:DAYLIGHT
TZOFFSETFROM:+0000
TZOFFSETTO:+0100
TZNAME:BST
DTSTART:20210328T010000
END:DAYLIGHT
BEGIN:STANDARD
TZOFFSETFROM:+0100
TZOFFSETTO:+0000
TZNAME:GMT
DTSTART:20211031T010000
END:STANDARD
END:VTIMEZONE
BEGIN:VEVENT
DTSTART;TZID=Europe/London:20210816T081500
DTEND;TZID=Europe/London:20210816T084500
DTSTAMP:20260422T074945
CREATED:20201030T133436Z
LAST-MODIFIED:20201030T133615Z
UID:2058-1629101700-1629103500@pianosummerschool.com
SUMMARY:Group class workshops
DESCRIPTION:The final morning group sessions before everyone performs in the morning participant recitals. \nThe sessions are live-streamed for all the online participants. \n \nThe Chetham’s library – founded in 1653\, is the oldest surviving public library in Britain. \n  \n 
URL:https://pianosummerschool.com/event/group-class-workshops-5/
CATEGORIES:Junior Course,Workshops
END:VEVENT
BEGIN:VEVENT
DTSTART;TZID=Europe/London:20210816T090000
DTEND;TZID=Europe/London:20210816T110000
DTSTAMP:20260422T074945
CREATED:20201108T103922Z
LAST-MODIFIED:20201108T103922Z
UID:2312-1629104400-1629111600@pianosummerschool.com
SUMMARY:Final morning recitals
DESCRIPTION:The 2021 Junior Academy draws to a close with recitals by all the young pianists throughout the school for 2 hours. Certificates will be presented to all participants.
URL:https://pianosummerschool.com/event/final-morning-recitals-3/
CATEGORIES:Junior Course,Participant Recitals
END:VEVENT
BEGIN:VEVENT
DTSTART;TZID=Europe/London:20210816T113000
DTEND;TZID=Europe/London:20210816T113000
DTSTAMP:20260422T074945
CREATED:20201108T104631Z
LAST-MODIFIED:20201108T104631Z
UID:2314-1629113400-1629113400@pianosummerschool.com
SUMMARY:Junior Academy ends
DESCRIPTION:A chance to say goodbye to everyone after a busy and inspiring course. \n \n 
URL:https://pianosummerschool.com/event/junior-academy-ends/
CATEGORIES:End of course,Junior Course
END:VEVENT
END:VCALENDAR