BEGIN:VCALENDAR
VERSION:2.0
PRODID:-//Chetham’s International Piano Summer School - ECPv6.0.4//NONSGML v1.0//EN
CALSCALE:GREGORIAN
METHOD:PUBLISH
X-WR-CALNAME:Chetham’s International Piano Summer School
X-ORIGINAL-URL:https://pianosummerschool.com
X-WR-CALDESC:Events for Chetham’s International Piano Summer School
REFRESH-INTERVAL;VALUE=DURATION:PT1H
X-Robots-Tag:noindex
X-PUBLISHED-TTL:PT1H
BEGIN:VTIMEZONE
TZID:Europe/London
BEGIN:DAYLIGHT
TZOFFSETFROM:+0000
TZOFFSETTO:+0100
TZNAME:BST
DTSTART:20210328T010000
END:DAYLIGHT
BEGIN:STANDARD
TZOFFSETFROM:+0100
TZOFFSETTO:+0000
TZNAME:GMT
DTSTART:20211031T010000
END:STANDARD
END:VTIMEZONE
BEGIN:VEVENT
DTSTART;TZID=Europe/London:20210815T191500
DTEND;TZID=Europe/London:20210815T201500
DTSTAMP:20260420T114117
CREATED:20201108T102234Z
LAST-MODIFIED:20210517T104316Z
UID:2307-1629054900-1629058500@pianosummerschool.com
SUMMARY:Gala Faculty recital
DESCRIPTION:The final evening recital is given by several of the outstanding members of the faculty including John Lenehan\, Murray McLachlan\, Kathryn Page\, Lulu Yang\, Ben Powell\, Sam Brook\, Gemma Beeson\, Gemma Webster. \nProgramme to include Ravel\, Gershwin\, John Ireland and much more.
URL:https://pianosummerschool.com/event/gala-faculty-recital-2/
LOCATION:Stoller Hall
CATEGORIES:Junior Course,Recitals
END:VEVENT
BEGIN:VEVENT
DTSTART;TZID=Europe/London:20210816T193000
DTEND;TZID=Europe/London:20210816T204500
DTSTAMP:20260420T114117
CREATED:20191218T150216Z
LAST-MODIFIED:20210517T105237Z
UID:1675-1629142200-1629146700@pianosummerschool.com
SUMMARY:Gala Faculty Recital
DESCRIPTION:The opening night of the 2021 Chetham’s International Piano Summer School continues with a gala faculty recital. \nA wonderful opportunity to hear from some of the outstanding pianists who are teaching on the course this year. Programme to include performances by: \nPeter Frankl\, Julian Jacobson\, Murray McLachlan\, Kathryn Page\, Nicholas Oliver and Lulu Yang. \nFree for all summer school participants. Event will live streamed for the public and all participants who are on the Online course. Tickets available through the Stoller Hall website.
URL:https://pianosummerschool.com/event/gala-faculty-recital/
LOCATION:Stoller Hall
CATEGORIES:Recitals
END:VEVENT
BEGIN:VEVENT
DTSTART;TZID=Europe/London:20210817T190000
DTEND;TZID=Europe/London:20210817T200000
DTSTAMP:20260420T114117
CREATED:20191218T171145Z
LAST-MODIFIED:20210517T135704Z
UID:1699-1629226800-1629230400@pianosummerschool.com
SUMMARY:Gala Faculty Recital
DESCRIPTION:Tonight another exciting and varied programme from some of the outstanding pianists who are teaching on the course. Performers include John Lenehan\, Nikki Iles\, Ben Powell\, Gemma Webster and Lulu Yang. \n \n 
URL:https://pianosummerschool.com/event/facultygala2/
LOCATION:Stoller Hall
CATEGORIES:Recitals
END:VEVENT
END:VCALENDAR