BEGIN:VCALENDAR
VERSION:2.0
PRODID:-//Chetham’s International Piano Summer School - ECPv6.0.4//NONSGML v1.0//EN
CALSCALE:GREGORIAN
METHOD:PUBLISH
X-WR-CALNAME:Chetham’s International Piano Summer School
X-ORIGINAL-URL:https://pianosummerschool.com
X-WR-CALDESC:Events for Chetham’s International Piano Summer School
REFRESH-INTERVAL;VALUE=DURATION:PT1H
X-Robots-Tag:noindex
X-PUBLISHED-TTL:PT1H
BEGIN:VTIMEZONE
TZID:Europe/London
BEGIN:DAYLIGHT
TZOFFSETFROM:+0000
TZOFFSETTO:+0100
TZNAME:BST
DTSTART:20200329T010000
END:DAYLIGHT
BEGIN:STANDARD
TZOFFSETFROM:+0100
TZOFFSETTO:+0000
TZNAME:GMT
DTSTART:20201025T010000
END:STANDARD
END:VTIMEZONE
BEGIN:VEVENT
DTSTART;TZID=Europe/London:20200816T170000
DTEND;TZID=Europe/London:20200816T180000
DTSTAMP:20260421T074229
CREATED:20191218T151756Z
LAST-MODIFIED:20191223T130121Z
UID:1684-1597597200-1597600800@pianosummerschool.com
SUMMARY:Piano Topography Part two - Euan Moseley
DESCRIPTION:20 Topographs for the intrepid pianist – by Euan Moseley \nMoseley’s Kaleidoscopic imaginative range is instantly accessible to everyone who loves good tunes\, zany humour and toe tapping tarantellas. \n“I think this music is both inventive and communicative: a most satisfying combination! Congratulations! “- Vladimir  Ashkenazy\n“The pieces make direct impact with the performer and are expertly and imaginatively created .. an excellent enterprise!” – John Lill C.B.E \nThe pianists will be talented young pianists from Chetham’s and the Royal Northern College of Music. Free for all summer school participants. Tickets available to the public through the Stoller Hall website – http://www.stollerhall.com \n \n 
URL:https://pianosummerschool.com/event/piano-topographies-part-two-euan-moseley/
LOCATION:Stoller Hall
CATEGORIES:Recitals
END:VEVENT
END:VCALENDAR