BEGIN:VCALENDAR
VERSION:2.0
PRODID:-//Chetham’s International Piano Summer School - ECPv6.0.4//NONSGML v1.0//EN
CALSCALE:GREGORIAN
METHOD:PUBLISH
X-WR-CALNAME:Chetham’s International Piano Summer School
X-ORIGINAL-URL:https://pianosummerschool.com
X-WR-CALDESC:Events for Chetham’s International Piano Summer School
REFRESH-INTERVAL;VALUE=DURATION:PT1H
X-Robots-Tag:noindex
X-PUBLISHED-TTL:PT1H
BEGIN:VTIMEZONE
TZID:Europe/London
BEGIN:DAYLIGHT
TZOFFSETFROM:+0000
TZOFFSETTO:+0100
TZNAME:BST
DTSTART:20200329T010000
END:DAYLIGHT
BEGIN:STANDARD
TZOFFSETFROM:+0100
TZOFFSETTO:+0000
TZNAME:GMT
DTSTART:20201025T010000
END:STANDARD
END:VTIMEZONE
BEGIN:VEVENT
DTSTART;TZID=Europe/London:20200817T170000
DTEND;TZID=Europe/London:20200817T180000
DTSTAMP:20260421T074148
CREATED:20191218T160337Z
LAST-MODIFIED:20191223T130141Z
UID:1696-1597683600-1597687200@pianosummerschool.com
SUMMARY:Alexander  Rosenblatt - piano compositions
DESCRIPTION:A vibrantly inspirational early evening recital featuring works by the Russian composer/pianist Alexander  Rosenblatt.  Rosenblatt’s dynamic\, energised\,  communicative music makes a direct emotional impact.   Many of the new generation of 21st century pianists have championed his music internationally and we are thrilled to present a cross section of his art in Manchester. Performers include the composer himself\, Dina Parakhina\, Callum McLachlan and students from Chetham’s school of music and the Royal Northern College of Music.\nProgramme to include the Sleeping Beauty – Jazz Fantasy on a Theme by Tchaikovsky with Dina Parakhina and Callum McLachlan.\n\nRosenblatt was born in Moscow on 31st July 1956 as the son of a violinist father and a pianist mother. He studied at the Moscow Conservatory from 1975 to 1982 with Pavel Messner (piano) and Karen Khachaturian (composition). His works range from classical music to crossover and jazz.
URL:https://pianosummerschool.com/event/alexander-rosenblatt-piano-compositions/
LOCATION:Stoller Hall
CATEGORIES:Recitals
END:VEVENT
END:VCALENDAR