BEGIN:VCALENDAR
VERSION:2.0
PRODID:-//Chetham’s International Piano Summer School - ECPv6.0.4//NONSGML v1.0//EN
CALSCALE:GREGORIAN
METHOD:PUBLISH
X-WR-CALNAME:Chetham’s International Piano Summer School
X-ORIGINAL-URL:https://pianosummerschool.com
X-WR-CALDESC:Events for Chetham’s International Piano Summer School
REFRESH-INTERVAL;VALUE=DURATION:PT1H
X-Robots-Tag:noindex
X-PUBLISHED-TTL:PT1H
BEGIN:VTIMEZONE
TZID:Europe/London
BEGIN:DAYLIGHT
TZOFFSETFROM:+0000
TZOFFSETTO:+0100
TZNAME:BST
DTSTART:20200329T010000
END:DAYLIGHT
BEGIN:STANDARD
TZOFFSETFROM:+0100
TZOFFSETTO:+0000
TZNAME:GMT
DTSTART:20201025T010000
END:STANDARD
END:VTIMEZONE
BEGIN:VEVENT
DTSTART;TZID=Europe/London:20200824T190000
DTEND;TZID=Europe/London:20200824T200000
DTSTAMP:20260421T074232
CREATED:20191219T173715Z
LAST-MODIFIED:20191223T130330Z
UID:1752-1598295600-1598299200@pianosummerschool.com
SUMMARY:Grigory Gruzman Recital
DESCRIPTION:We welcome back celebrated German based Russian pianist-teacher Grigory Gruzman to perform a solo recital on the course this year. In 2019 Grigory came to Chetham’s for the first time and everyone was overwhelened with his inspirational teaching and infectious enthusiasm. \n“On such an interpretation of Rigoletto-Paraphrase\, I’ve been waiting all my life” Herbert von Karajan \nWe eagerly await his recital.
URL:https://pianosummerschool.com/event/grigory-gruzman-recital/
LOCATION:Stoller Hall
CATEGORIES:Recitals
END:VEVENT
END:VCALENDAR