BEGIN:VCALENDAR
VERSION:2.0
PRODID:-//Chetham’s International Piano Summer School - ECPv6.0.4//NONSGML v1.0//EN
CALSCALE:GREGORIAN
METHOD:PUBLISH
X-ORIGINAL-URL:https://pianosummerschool.com
X-WR-CALDESC:Events for Chetham’s International Piano Summer School
REFRESH-INTERVAL;VALUE=DURATION:PT1H
X-Robots-Tag:noindex
X-PUBLISHED-TTL:PT1H
BEGIN:VTIMEZONE
TZID:Europe/London
BEGIN:DAYLIGHT
TZOFFSETFROM:+0000
TZOFFSETTO:+0100
TZNAME:BST
DTSTART:20210328T010000
END:DAYLIGHT
BEGIN:STANDARD
TZOFFSETFROM:+0100
TZOFFSETTO:+0000
TZNAME:GMT
DTSTART:20211031T010000
END:STANDARD
END:VTIMEZONE
BEGIN:VEVENT
DTSTART;TZID=Europe/London:20210817T084500
DTEND;TZID=Europe/London:20210817T110000
DTSTAMP:20260425T140946
CREATED:20191122T125422Z
LAST-MODIFIED:20201108T105833Z
UID:1535-1629189900-1629198000@pianosummerschool.com
SUMMARY:Teaching session 1
DESCRIPTION:The first teaching session on CIPSS part one. Participants work with the outstanding faculty in individual lessons. Included in the basic course fee is an individual lesson on every teaching day. Observers always welcome.
URL:https://pianosummerschool.com/event/teaching-session-1-6/
CATEGORIES:Teaching Sessions
END:VEVENT
END:VCALENDAR