BEGIN:VCALENDAR
VERSION:2.0
PRODID:-//Chetham’s International Piano Summer School - ECPv6.0.4//NONSGML v1.0//EN
CALSCALE:GREGORIAN
METHOD:PUBLISH
X-ORIGINAL-URL:https://pianosummerschool.com
X-WR-CALDESC:Events for Chetham’s International Piano Summer School
REFRESH-INTERVAL;VALUE=DURATION:PT1H
X-Robots-Tag:noindex
X-PUBLISHED-TTL:PT1H
BEGIN:VTIMEZONE
TZID:Europe/London
BEGIN:DAYLIGHT
TZOFFSETFROM:+0000
TZOFFSETTO:+0100
TZNAME:BST
DTSTART:20260329T010000
END:DAYLIGHT
BEGIN:STANDARD
TZOFFSETFROM:+0100
TZOFFSETTO:+0000
TZNAME:GMT
DTSTART:20261025T010000
END:STANDARD
END:VTIMEZONE
BEGIN:VEVENT
DTSTART;TZID=Europe/London:20260812T153000
DTEND;TZID=Europe/London:20260812T163000
DTSTAMP:20260423T151006
CREATED:20221027T111251Z
LAST-MODIFIED:20251115T164441Z
UID:3222-1786548600-1786552200@pianosummerschool.com
SUMMARY:Welcome meeting for Junior Piano Course
DESCRIPTION:A chance to meet other young pianists on the course with course director and Head of Keyboard\, Murray McLachlan. We look forward to getting to know you all over the course and hearing you play.
URL:https://pianosummerschool.com/event/welcome-meeting-for-junior-piano-course/
LOCATION:Carole Nash Hall
CATEGORIES:Junior Course,Welcome,Welcome meeting
END:VEVENT
END:VCALENDAR