BEGIN:VCALENDAR
VERSION:2.0
PRODID:-//Chetham’s International Piano Summer School - ECPv6.0.4//NONSGML v1.0//EN
CALSCALE:GREGORIAN
METHOD:PUBLISH
X-WR-CALNAME:Chetham’s International Piano Summer School
X-ORIGINAL-URL:https://pianosummerschool.com
X-WR-CALDESC:Events for Chetham’s International Piano Summer School
REFRESH-INTERVAL;VALUE=DURATION:PT1H
X-Robots-Tag:noindex
X-PUBLISHED-TTL:PT1H
BEGIN:VTIMEZONE
TZID:Europe/London
BEGIN:DAYLIGHT
TZOFFSETFROM:+0000
TZOFFSETTO:+0100
TZNAME:BST
DTSTART:20210328T010000
END:DAYLIGHT
BEGIN:STANDARD
TZOFFSETFROM:+0100
TZOFFSETTO:+0000
TZNAME:GMT
DTSTART:20211031T010000
END:STANDARD
END:VTIMEZONE
BEGIN:VEVENT
DTSTART;TZID=Europe/London:20210813T143000
DTEND;TZID=Europe/London:20210813T160000
DTSTAMP:20260426T025719
CREATED:20191115T161302Z
LAST-MODIFIED:20201030T130357Z
UID:1296-1628865000-1628870400@pianosummerschool.com
SUMMARY:Group class workshops
DESCRIPTION:The Junior Academy at Chetham’s begins with everyone joining together in their group classes. These will be divided into the 4 main course options: \nElementary – with Ruth Aldred \nIntermediate – with Sarah Murphy \nAdvanced – with Gemma Beeson \nYoung artists – with Murray McLachlan \nThroughout the course there will be daily classes to further enhance  individual timetables. All classes will be live-streamed so that participants on the Online course can participate. \n \n  \n 
URL:https://pianosummerschool.com/event/elementary-course-class-session/
CATEGORIES:Junior Course,Workshops
END:VEVENT
END:VCALENDAR