BEGIN:VCALENDAR
VERSION:2.0
PRODID:-//Chetham’s International Piano Summer School - ECPv6.0.4//NONSGML v1.0//EN
CALSCALE:GREGORIAN
METHOD:PUBLISH
X-ORIGINAL-URL:https://pianosummerschool.com
X-WR-CALDESC:Events for Chetham’s International Piano Summer School
REFRESH-INTERVAL;VALUE=DURATION:PT1H
X-Robots-Tag:noindex
X-PUBLISHED-TTL:PT1H
BEGIN:VTIMEZONE
TZID:Europe/London
BEGIN:DAYLIGHT
TZOFFSETFROM:+0000
TZOFFSETTO:+0100
TZNAME:BST
DTSTART:20260329T010000
END:DAYLIGHT
BEGIN:STANDARD
TZOFFSETFROM:+0100
TZOFFSETTO:+0000
TZNAME:GMT
DTSTART:20261025T010000
END:STANDARD
END:VTIMEZONE
BEGIN:VEVENT
DTSTART;TZID=Europe/London:20260814T081500
DTEND;TZID=Europe/London:20260814T083000
DTSTAMP:20260420T235351
CREATED:20251115T135441Z
LAST-MODIFIED:20251115T135441Z
UID:6014-1786695300-1786696200@pianosummerschool.com
SUMMARY:Early Morning Warm Ups with Murray
DESCRIPTION:Wake up early and join Murray for a refreshing warm up session. A chance to start your day with aural and physical fun – everyone welcome!
URL:https://pianosummerschool.com/event/early-morning-warm-ups-with-murray-10/
LOCATION:Oglesby Atrium
CATEGORIES:Junior Course,Workshops
END:VEVENT
BEGIN:VEVENT
DTSTART;TZID=Europe/London:20260814T084500
DTEND;TZID=Europe/London:20260814T093000
DTSTAMP:20260420T235351
CREATED:20231204T184003Z
LAST-MODIFIED:20251115T143730Z
UID:4228-1786697100-1786699800@pianosummerschool.com
SUMMARY:Drop in practice workshop
DESCRIPTION:Start the day with a helpful workshop for everyone who needs a little support with practising. Workshops for the Junior Course are scheduled just after this class. \nEveryone welcome – come along with a bar\, a chord\, or any part of a piece that you would like some advice on from a member of the faculty. Tips on fingering\, pedaling\, phrasing\, articulation\, voicing etc. \n  \n \n  \n 
URL:https://pianosummerschool.com/event/drop-in-practice-workshop/
LOCATION:G06
CATEGORIES:Workshops
END:VEVENT
BEGIN:VEVENT
DTSTART;TZID=Europe/London:20260814T084500
DTEND;TZID=Europe/London:20260814T093000
DTSTAMP:20260420T235351
CREATED:20251130T113801Z
LAST-MODIFIED:20251130T113801Z
UID:6244-1786697100-1786699800@pianosummerschool.com
SUMMARY:Junior Piano Group Class
DESCRIPTION:The first morning group class where singing\, movement and more help to ease everyone into the day. \n \na young pianist exploring rhythm with Murray McLachlan. \n 
URL:https://pianosummerschool.com/event/junior-piano-group-class-17/
LOCATION:Oglesby Atrium
CATEGORIES:Junior Course,Workshops
END:VEVENT
BEGIN:VEVENT
DTSTART;TZID=Europe/London:20260814T093000
DTEND;TZID=Europe/London:20260814T101500
DTSTAMP:20260420T235351
CREATED:20251115T132337Z
LAST-MODIFIED:20251115T132337Z
UID:5986-1786699800-1786702500@pianosummerschool.com
SUMMARY:Junior Course 'drop in' practice workshop
DESCRIPTION:Come along with a bar\, or a small section for lots of advice and help to take you into your practice room. Stay for 5 minutes or the whole class – so much can be discovered by listening to everyone. \n \n  \n  \n 
URL:https://pianosummerschool.com/event/junior-course-drop-in-practice-workshop/
LOCATION:G06
CATEGORIES:Junior Course,Workshops
END:VEVENT
BEGIN:VEVENT
DTSTART;TZID=Europe/London:20260814T101500
DTEND;TZID=Europe/London:20260814T110000
DTSTAMP:20260420T235351
CREATED:20251121T163709Z
LAST-MODIFIED:20251121T163709Z
UID:6105-1786702500-1786705200@pianosummerschool.com
SUMMARY:Scales and exercises 'drop in' workshop
DESCRIPTION:New for 2026 a daily class focusing on scales and exercises. \nRegular work on scales and exercises transforms your facility\, giving you the freedom to play with clarity and control. \nDrop in for 5 minutes or come for the whole class – everyone welcome! \n \n  \n  \n 
URL:https://pianosummerschool.com/event/scales-and-exercises-drop-in-workshop/
LOCATION:G06
CATEGORIES:Junior Course,Workshops
END:VEVENT
BEGIN:VEVENT
DTSTART;TZID=Europe/London:20260814T113000
DTEND;TZID=Europe/London:20260814T130000
DTSTAMP:20260420T235351
CREATED:20221027T131624Z
LAST-MODIFIED:20251115T161822Z
UID:3269-1786707000-1786712400@pianosummerschool.com
SUMMARY:Adult Amateur Workshop
DESCRIPTION:A chance for all adult amateur pianists to come and play in a supportive atmosphere\, with  Susan Bettaney. Come and play a bar\, a phrase or a complete piece – on a wonderful Grand piano kindly donated by Forsyth Music Shop. Get help with performance nerves – many participants who thought they would never have the courage to play come back year after year\, including some making a recording in Stoller Hall and taking performance diplomas! \n \n 
URL:https://pianosummerschool.com/event/adult-amateur-workshop-12/
LOCATION:G06
CATEGORIES:Workshops
END:VEVENT
BEGIN:VEVENT
DTSTART;TZID=Europe/London:20260814T144500
DTEND;TZID=Europe/London:20260814T153000
DTSTAMP:20260420T235351
CREATED:20251121T183044Z
LAST-MODIFIED:20251121T183044Z
UID:6121-1786718700-1786721400@pianosummerschool.com
SUMMARY:The Art of Four Hands workshop
DESCRIPTION:New for 2026! \nA new daily workshop dedicated to the art of piano duo playing – both duets and 2 pianos. \nDiabelli\,  Mozart\, Schubert\, Grieg\, Dvorak\,  Brahms\, Ravel\, Debussy\, Faure\, Rachmaninov – so many composers wrote a huge amount for both piano duet and 2 pianos. These new workshops are a chance to come along with a prepared duo\, or simply to enjoy sightreading through some of this amazing repertoire. \nThere will be something for everyone – do bring your own music to share with us and have fun exploring the box of music too. \n Kathryn Stott and Matthew McLachlan \n  \n  \n 
URL:https://pianosummerschool.com/event/the-art-of-four-hands-workshop-2/
LOCATION:G06
CATEGORIES:Junior Course,Workshops
END:VEVENT
BEGIN:VEVENT
DTSTART;TZID=Europe/London:20260814T153000
DTEND;TZID=Europe/London:20260814T161500
DTSTAMP:20260420T235351
CREATED:20251115T133913Z
LAST-MODIFIED:20251115T133913Z
UID:6001-1786721400-1786724100@pianosummerschool.com
SUMMARY:Junior  Course 'drop in' performance class
DESCRIPTION:Don’t miss this opportunity to perform in front of friends on the  Junior Course. Pop in anytime you are free. \n \n 
URL:https://pianosummerschool.com/event/junior-course-drop-in-performance-class-2/
LOCATION:G06
CATEGORIES:Junior Course,Participant Recitals,Workshops
END:VEVENT
BEGIN:VEVENT
DTSTART;TZID=Europe/London:20260814T161500
DTEND;TZID=Europe/London:20260814T170000
DTSTAMP:20260420T235351
CREATED:20251115T153510Z
LAST-MODIFIED:20251115T153510Z
UID:6038-1786724100-1786726800@pianosummerschool.com
SUMMARY:'Drop in' performance class
DESCRIPTION:An exciting addition to the course – a daily opportunity to perform and hear other pianists on the course in a very informal performance session\, hosted by a member of the faculty. All welcome. \n \n  \n 
URL:https://pianosummerschool.com/event/drop-in-performance-class-16/
LOCATION:G06
CATEGORIES:Participant Recitals,Workshops
END:VEVENT
END:VCALENDAR