BEGIN:VCALENDAR
VERSION:2.0
PRODID:-//Chetham’s International Piano Summer School - ECPv6.0.4//NONSGML v1.0//EN
CALSCALE:GREGORIAN
METHOD:PUBLISH
X-ORIGINAL-URL:https://pianosummerschool.com
X-WR-CALDESC:Events for Chetham’s International Piano Summer School
REFRESH-INTERVAL;VALUE=DURATION:PT1H
X-Robots-Tag:noindex
X-PUBLISHED-TTL:PT1H
BEGIN:VTIMEZONE
TZID:Europe/London
BEGIN:DAYLIGHT
TZOFFSETFROM:+0000
TZOFFSETTO:+0100
TZNAME:BST
DTSTART:20260329T010000
END:DAYLIGHT
BEGIN:STANDARD
TZOFFSETFROM:+0100
TZOFFSETTO:+0000
TZNAME:GMT
DTSTART:20261025T010000
END:STANDARD
END:VTIMEZONE
BEGIN:VEVENT
DTSTART;TZID=Europe/London:20260815T081500
DTEND;TZID=Europe/London:20260815T083000
DTSTAMP:20260421T012541
CREATED:20251115T135513Z
LAST-MODIFIED:20251115T135513Z
UID:6017-1786781700-1786782600@pianosummerschool.com
SUMMARY:Early Morning Warm Ups with Murray
DESCRIPTION:Flagging with mid-course fatigue? No problem: Wake up early and join Murray for a refreshing warm up session.
URL:https://pianosummerschool.com/event/early-morning-warm-ups-with-murray-11/
LOCATION:Oglesby Atrium
CATEGORIES:Junior Course,Workshops
END:VEVENT
BEGIN:VEVENT
DTSTART;TZID=Europe/London:20260815T084500
DTEND;TZID=Europe/London:20260815T093000
DTSTAMP:20260421T012541
CREATED:20221027T140052Z
LAST-MODIFIED:20251115T144009Z
UID:3297-1786783500-1786786200@pianosummerschool.com
SUMMARY:Drop in practice  workshop
DESCRIPTION:A great way to set up the day with tips on every aspect of piano playing from a member of the faculty. \n \n  \n  \n 
URL:https://pianosummerschool.com/event/drop-in-practise-clinic-9/
LOCATION:G06
CATEGORIES:Workshops
END:VEVENT
BEGIN:VEVENT
DTSTART;TZID=Europe/London:20260815T084500
DTEND;TZID=Europe/London:20260815T093000
DTSTAMP:20260421T012541
CREATED:20251130T113641Z
LAST-MODIFIED:20251130T113938Z
UID:6245-1786783500-1786786200@pianosummerschool.com
SUMMARY:Junior Piano Group Class
DESCRIPTION:Join all the other junior course pianists for a group session. Dalcroze\, Kodaly\, movement\, listening\, and much more.
URL:https://pianosummerschool.com/event/junior-piano-group-class-16/
LOCATION:Oglesby Atrium
CATEGORIES:Junior Course,Workshops
END:VEVENT
BEGIN:VEVENT
DTSTART;TZID=Europe/London:20260815T093000
DTEND;TZID=Europe/London:20260815T101500
DTSTAMP:20260421T012541
CREATED:20231205T135825Z
LAST-MODIFIED:20251115T132843Z
UID:4268-1786786200-1786788900@pianosummerschool.com
SUMMARY:Junior Course 'drop in' practice  workshop
DESCRIPTION:The daily ‘drop -in’ class for all Junior Course pianists. A great way to set up the day with tips on every aspect of piano playing from a member of the faculty. Come along with a bar\, or a small section for lots of advice and help to take you into your practice room. \n \n  \n  \n 
URL:https://pianosummerschool.com/event/junior-foundation-drop-in-practice-workshop-3/
LOCATION:G06
CATEGORIES:Junior Course,Workshops
END:VEVENT
BEGIN:VEVENT
DTSTART;TZID=Europe/London:20260815T101500
DTEND;TZID=Europe/London:20260815T110000
DTSTAMP:20260421T012541
CREATED:20251121T164317Z
LAST-MODIFIED:20251121T164317Z
UID:6108-1786788900-1786791600@pianosummerschool.com
SUMMARY:Scales and exercises 'drop in' workshop
DESCRIPTION:New for 2026 a daily class focusing on scales and exercises. \nJoin a daily workshop where scales and exercises become exciting tools for progress\, unlocking speed\, strength\, and expressive freedom. Learn how to make exercises out of your repertoire and to always find new ways to practise. \nDrop in for 5 minutes or come for the whole class – everyone welcome! \n \n  \n  \n 
URL:https://pianosummerschool.com/event/scales-and-exercises-drop-in-workshop-2/
LOCATION:G06
CATEGORIES:Junior Course,Workshops
END:VEVENT
BEGIN:VEVENT
DTSTART;TZID=Europe/London:20260815T113000
DTEND;TZID=Europe/London:20260815T130000
DTSTAMP:20260421T012541
CREATED:20251115T162000Z
LAST-MODIFIED:20251115T162000Z
UID:6064-1786793400-1786798800@pianosummerschool.com
SUMMARY:Adult Amateur Workshop
DESCRIPTION:Adult amateur pianists are warmly welcomed to play in a friendly\, encouraging atmosphere with Kathryn Page. Whether it’s a single phrase or a complete work\, this session helps ease performance nerves. Countless participants who once lacked confidence now return annually\, with some going on to record in Stoller Hall and pursue diplomas. \n 
URL:https://pianosummerschool.com/event/adult-amateur-workshop-17/
LOCATION:G06
CATEGORIES:Workshops
END:VEVENT
BEGIN:VEVENT
DTSTART;TZID=Europe/London:20260815T144500
DTEND;TZID=Europe/London:20260815T153000
DTSTAMP:20260421T012541
CREATED:20251121T184028Z
LAST-MODIFIED:20251121T184028Z
UID:6123-1786805100-1786807800@pianosummerschool.com
SUMMARY:The Art of Four Hands workshop
DESCRIPTION:A new daily workshop dedicated to the art of piano duo playing – both duets and 2 pianos. \nBring your duo ready to perform\, or simply enjoy the thrill of sightreading together in a supportive atmosphere.  Everyone welcome – there will always be someone ready to join you at the piano. \nDo drop in and explore the wonderfully rich duo repertoire. \n \nMarie\, Margaret\, Caroline and Douglas performing a world premiere in 2025. \n  \n  \n 
URL:https://pianosummerschool.com/event/the-art-of-four-hands-workshop-3/
LOCATION:G06
CATEGORIES:Junior Course,Workshops
END:VEVENT
BEGIN:VEVENT
DTSTART;TZID=Europe/London:20260815T153000
DTEND;TZID=Europe/London:20260815T161500
DTSTAMP:20260421T012541
CREATED:20251115T134132Z
LAST-MODIFIED:20251115T134132Z
UID:6000-1786807800-1786810500@pianosummerschool.com
SUMMARY:Junior Course 'drop in' performance class
DESCRIPTION:Every day Junior Course pianists can enjoy performing on an outstanding grand piano in front of a small and supportive audience\, hosted by a member of the faculty. \n  \n \n  \n  \n 
URL:https://pianosummerschool.com/event/junior-course-drop-in-performance-class-3/
LOCATION:G06
CATEGORIES:Junior Course,Participant Recitals,Workshops
END:VEVENT
BEGIN:VEVENT
DTSTART;TZID=Europe/London:20260815T161500
DTEND;TZID=Europe/London:20260815T170000
DTSTAMP:20260421T012541
CREATED:20251115T153801Z
LAST-MODIFIED:20251115T153801Z
UID:6042-1786810500-1786813200@pianosummerschool.com
SUMMARY:'Drop in' performance class
DESCRIPTION:An exciting addition to the course – a daily opportunity to perform and hear other pianists on the course in a very informal performance session\, hosted by a member of the faculty. All welcome. \n \n  \n 
URL:https://pianosummerschool.com/event/drop-in-performance-class-17/
LOCATION:G06
CATEGORIES:Participant Recitals,Workshops
END:VEVENT
END:VCALENDAR