BEGIN:VCALENDAR
VERSION:2.0
PRODID:-//Chetham’s International Piano Summer School - ECPv6.0.4//NONSGML v1.0//EN
CALSCALE:GREGORIAN
METHOD:PUBLISH
X-WR-CALNAME:Chetham’s International Piano Summer School
X-ORIGINAL-URL:https://pianosummerschool.com
X-WR-CALDESC:Events for Chetham’s International Piano Summer School
REFRESH-INTERVAL;VALUE=DURATION:PT1H
X-Robots-Tag:noindex
X-PUBLISHED-TTL:PT1H
BEGIN:VTIMEZONE
TZID:Europe/London
BEGIN:DAYLIGHT
TZOFFSETFROM:+0000
TZOFFSETTO:+0100
TZNAME:BST
DTSTART:20260329T010000
END:DAYLIGHT
BEGIN:STANDARD
TZOFFSETFROM:+0100
TZOFFSETTO:+0000
TZNAME:GMT
DTSTART:20261025T010000
END:STANDARD
END:VTIMEZONE
BEGIN:VEVENT
DTSTART;TZID=Europe/London:20260820T081500
DTEND;TZID=Europe/London:20260820T083000
DTSTAMP:20260421T012300
CREATED:20250323T171525Z
LAST-MODIFIED:20251115T143534Z
UID:5540-1787213700-1787214600@pianosummerschool.com
SUMMARY:Early Morning Warm Ups with Murray
DESCRIPTION:Flagging with mid-course fatigue? No problem: Wake up early and join Murray for a refreshing warm up session. \nA  new early morning series of 15 minute group sessions in the Atrium  led by founder and artistic director Murray McLachlan.  Open to everyone on the course\, the sessions will include a variety of ‘bite size’ projects\, concepts and exercises relating to piano well-being and mindset as well as glimpses of repertoire.   Embrace the unfamiliar!  Look at well-loved music from different perspectives!  Above all\, start your CIPSS day in style with a real sense of positivity\, energy and optimistic purpose. \n 
URL:https://pianosummerschool.com/event/early-morning-warm-ups-with-murray-3/
LOCATION:Oglesby Atrium
CATEGORIES:Junior Course,Workshops
END:VEVENT
BEGIN:VEVENT
DTSTART;TZID=Europe/London:20260820T084500
DTEND;TZID=Europe/London:20260820T093000
DTSTAMP:20260421T012300
CREATED:20201115T104404Z
LAST-MODIFIED:20251115T144516Z
UID:2479-1787215500-1787218200@pianosummerschool.com
SUMMARY:Drop in practice  workshop
DESCRIPTION:Start the day with a helpful workshop for everyone who needs a little support with practising. \nEveryone welcome – come along with a bar\, a chord\, or any part of a piece that you would like some advice on from a member of the faculty. \n  \n \n  \n 
URL:https://pianosummerschool.com/event/drop-in-practise-clinic-4/
LOCATION:G06
CATEGORIES:Workshops
END:VEVENT
BEGIN:VEVENT
DTSTART;TZID=Europe/London:20260820T084500
DTEND;TZID=Europe/London:20260820T093000
DTSTAMP:20260421T012300
CREATED:20251130T114408Z
LAST-MODIFIED:20251130T114408Z
UID:6242-1787215500-1787218200@pianosummerschool.com
SUMMARY:Junior Piano Group Class
DESCRIPTION:Join your friends for a group workshop session – singing\, movement\, listening and much more to start your day with renewed energy.
URL:https://pianosummerschool.com/event/junior-piano-group-class-20/
LOCATION:Oglesby Atrium
CATEGORIES:Junior Course,Workshops
END:VEVENT
BEGIN:VEVENT
DTSTART;TZID=Europe/London:20260820T093000
DTEND;TZID=Europe/London:20260820T101500
DTSTAMP:20260421T012300
CREATED:20251115T133326Z
LAST-MODIFIED:20251115T133326Z
UID:5994-1787218200-1787220900@pianosummerschool.com
SUMMARY:Junior Course 'drop in' practice workshop
DESCRIPTION:A great way to set up the day with tips on every aspect of piano practising from a member of the faculty. Drop in for 5 minutes or the whole workshop and learn from listening to everyone. Don’t miss this fantastic opportunity! \n \n  \n  \n 
URL:https://pianosummerschool.com/event/junior-course-drop-in-practice-workshop-4/
LOCATION:G06
CATEGORIES:Junior Course,Workshops
END:VEVENT
BEGIN:VEVENT
DTSTART;TZID=Europe/London:20260820T101500
DTEND;TZID=Europe/London:20260820T110000
DTSTAMP:20260421T012300
CREATED:20251121T180150Z
LAST-MODIFIED:20251121T180150Z
UID:6116-1787220900-1787223600@pianosummerschool.com
SUMMARY:Scales and exercises 'drop in' workshop
DESCRIPTION:Join a daily workshop where scales and exercises become exciting tools for progress\, unlocking speed\, strength\, and expressive freedom. Learn how to make exercises out of your repertoire and to always find new ways to practise. \nDrop in for 5 minutes or come for the whole class – everyone welcome! \n \n  \n  \n 
URL:https://pianosummerschool.com/event/scales-and-exercises-drop-in-workshop-6/
LOCATION:G06
CATEGORIES:Junior Course,Workshops
END:VEVENT
BEGIN:VEVENT
DTSTART;TZID=Europe/London:20260820T113000
DTEND;TZID=Europe/London:20260820T130000
DTSTAMP:20260421T012300
CREATED:20221027T141101Z
LAST-MODIFIED:20251115T163602Z
UID:3301-1787225400-1787230800@pianosummerschool.com
SUMMARY:Adult Amateur Workshop
DESCRIPTION:A chance for adult amateur pianists to perform in a relaxed\, encouraging environment with Kathryn Page. Whether you share a single phrase or a complete piece\, you’ll find support in overcoming nerves. \n 
URL:https://pianosummerschool.com/event/adult-amateur-workshop-14/
LOCATION:G06
CATEGORIES:Workshops
END:VEVENT
BEGIN:VEVENT
DTSTART;TZID=Europe/London:20260820T144500
DTEND;TZID=Europe/London:20260820T153000
DTSTAMP:20260421T012300
CREATED:20251122T171235Z
LAST-MODIFIED:20251122T171235Z
UID:6132-1787237100-1787239800@pianosummerschool.com
SUMMARY:The Art of Four Hands workshop
DESCRIPTION:A new daily workshop dedicated to the art of piano duo playing – both duets and 2 pianos. \nBring your duo ready to perform\, or simply enjoy the thrill of sightreading together in a supportive atmosphere.  Everyone welcome – there will always be someone ready to join you at the piano. \nDo drop in and explore the wonderfully rich duo repertoire. \n \nMarie\, Margaret\, Caroline and Douglas performing a world premiere in 2025. \n  \n  \n 
URL:https://pianosummerschool.com/event/the-art-of-four-hands-workshop-7/
LOCATION:G06
CATEGORIES:Junior Course,Workshops
END:VEVENT
BEGIN:VEVENT
DTSTART;TZID=Europe/London:20260820T153000
DTEND;TZID=Europe/London:20260820T161500
DTSTAMP:20260421T012300
CREATED:20251115T134656Z
LAST-MODIFIED:20251115T134656Z
UID:6009-1787239800-1787242500@pianosummerschool.com
SUMMARY:Junior Course 'drop in' performance class
DESCRIPTION:A  wonderful opportunity to perform on a beautiful grand piano in front of a small\, friendly audience. \n \n 
URL:https://pianosummerschool.com/event/junior-course-drop-in-performance-class-5/
LOCATION:G06
CATEGORIES:Junior Course,Participant Recitals,Workshops
END:VEVENT
BEGIN:VEVENT
DTSTART;TZID=Europe/London:20260820T161500
DTEND;TZID=Europe/London:20260820T170000
DTSTAMP:20260421T012300
CREATED:20251115T154345Z
LAST-MODIFIED:20251115T154345Z
UID:6045-1787242500-1787245200@pianosummerschool.com
SUMMARY:'Drop in' performance class
DESCRIPTION:Each day offers a relaxed performance opportunity—play for others\, hear fellow pianists\, and enjoy the supportive atmosphere with a faculty member hosting. \n \n  \n 
URL:https://pianosummerschool.com/event/drop-in-performance-class-20/
LOCATION:G06
CATEGORIES:Participant Recitals,Workshops
END:VEVENT
END:VCALENDAR