BEGIN:VCALENDAR
VERSION:2.0
PRODID:-//Chetham’s International Piano Summer School - ECPv6.0.4//NONSGML v1.0//EN
CALSCALE:GREGORIAN
METHOD:PUBLISH
X-WR-CALNAME:Chetham’s International Piano Summer School
X-ORIGINAL-URL:https://pianosummerschool.com
X-WR-CALDESC:Events for Chetham’s International Piano Summer School
REFRESH-INTERVAL;VALUE=DURATION:PT1H
X-Robots-Tag:noindex
X-PUBLISHED-TTL:PT1H
BEGIN:VTIMEZONE
TZID:Europe/London
BEGIN:DAYLIGHT
TZOFFSETFROM:+0000
TZOFFSETTO:+0100
TZNAME:BST
DTSTART:20260329T010000
END:DAYLIGHT
BEGIN:STANDARD
TZOFFSETFROM:+0100
TZOFFSETTO:+0000
TZNAME:GMT
DTSTART:20261025T010000
END:STANDARD
END:VTIMEZONE
BEGIN:VEVENT
DTSTART;TZID=Europe/London:20260816T093000
DTEND;TZID=Europe/London:20260816T101500
DTSTAMP:20260421T025312
CREATED:20231205T135757Z
LAST-MODIFIED:20251115T133051Z
UID:4266-1786872600-1786875300@pianosummerschool.com
SUMMARY:Junior Course 'drop in' practice workshop
DESCRIPTION:A great way to set up the day with tips on every aspect of piano practising from a member of the faculty. Drop in for 5 minutes or the whole workshop and learn from listening to everyone. Don’t miss this fantastic opportunity! \n \n  \n  \n 
URL:https://pianosummerschool.com/event/junior-foundation-drop-in-practice-workshop-2/
LOCATION:G06
CATEGORIES:Junior Course,Workshops
END:VEVENT
BEGIN:VEVENT
DTSTART;TZID=Europe/London:20260816T101500
DTEND;TZID=Europe/London:20260816T110000
DTSTAMP:20260421T025312
CREATED:20251121T164704Z
LAST-MODIFIED:20251121T164704Z
UID:6107-1786875300-1786878000@pianosummerschool.com
SUMMARY:Scales and exercises 'drop in' workshop
DESCRIPTION:Come along for the final class on part one to fuel your progress with a daily workshop devoted to scales and exercises—vital tools for fluency and technical mastery. \nDrop in for 5 minutes or come for the whole class – everyone welcome! \n \n  \n  \n 
URL:https://pianosummerschool.com/event/scales-and-exercises-drop-in-workshop-3/
LOCATION:G06
CATEGORIES:Junior Course,Workshops
END:VEVENT
BEGIN:VEVENT
DTSTART;TZID=Europe/London:20260816T113000
DTEND;TZID=Europe/London:20260816T130000
DTSTAMP:20260421T025312
CREATED:20251115T162245Z
LAST-MODIFIED:20251115T162245Z
UID:6070-1786879800-1786885200@pianosummerschool.com
SUMMARY:Adult Amateur Workshop
DESCRIPTION:A chance for all adult amateur pianists to come and play in a supportive atmosphere\, with  Susan Bettaney. Come and play a bar\, a phrase or a complete piece – on a wonderful Grand piano kindly donated by Forsyth Music Shop. Get help with performance nerves – many participants who thought they would never have the courage to play come back year after year\, including some making a recording in Stoller Hall and taking performance diplomas! \n  \n                   
URL:https://pianosummerschool.com/event/adult-amateur-workshop-18/
LOCATION:G06
CATEGORIES:Workshops
END:VEVENT
BEGIN:VEVENT
DTSTART;TZID=Europe/London:20260816T144500
DTEND;TZID=Europe/London:20260816T153000
DTSTAMP:20260421T025312
CREATED:20251121T184846Z
LAST-MODIFIED:20251121T184846Z
UID:6122-1786891500-1786894200@pianosummerschool.com
SUMMARY:The Art of Four Hands workshop
DESCRIPTION:A new daily workshop dedicated to the art of piano duo playing – both duets and 2 pianos. \nBring your duo ready to perform\, or simply enjoy the thrill of sightreading together in a supportive atmosphere.  Everyone welcome – there will always be someone ready to join you at the piano. \nDo drop in and explore the wonderfully rich duo repertoire. \n  Kathryn Stott and Matthew McLachlan\, 2025 \n  \n  \n 
URL:https://pianosummerschool.com/event/the-art-of-four-hands-workshop-4/
LOCATION:G06
CATEGORIES:Junior Course,Workshops
END:VEVENT
BEGIN:VEVENT
DTSTART;TZID=Europe/London:20260816T153000
DTEND;TZID=Europe/London:20260816T161500
DTSTAMP:20260421T025312
CREATED:20221027T152641Z
LAST-MODIFIED:20251115T134230Z
UID:3382-1786894200-1786896900@pianosummerschool.com
SUMMARY:Junior Course 'drop in' performance class
DESCRIPTION:The final performance class on part one! Don’t miss this opportunity to perform in front of friends on the Junior Course. Pop in anytime you are free. \n \n 
URL:https://pianosummerschool.com/event/junior-advanced-drop-in-performance-class-9/
LOCATION:G06
CATEGORIES:Junior Course,Participant Recitals,Workshops
END:VEVENT
BEGIN:VEVENT
DTSTART;TZID=Europe/London:20260816T161500
DTEND;TZID=Europe/London:20260816T170000
DTSTAMP:20260421T025312
CREATED:20251115T153905Z
LAST-MODIFIED:20251115T153905Z
UID:6040-1786896900-1786899600@pianosummerschool.com
SUMMARY:'Drop in' performance class
DESCRIPTION:The final opportunity on  part one to perform in this informal setting\, to an audience of supportive participants. \n \n  \n 
URL:https://pianosummerschool.com/event/drop-in-performance-class-18/
LOCATION:G06
CATEGORIES:Participant Recitals,Workshops
END:VEVENT
BEGIN:VEVENT
DTSTART;TZID=Europe/London:20260818T081500
DTEND;TZID=Europe/London:20260818T083000
DTSTAMP:20260421T025312
CREATED:20250323T172044Z
LAST-MODIFIED:20251115T141939Z
UID:5545-1787040900-1787041800@pianosummerschool.com
SUMMARY:Early Morning Warm Ups with Murray
DESCRIPTION:Begin your CIPSS part 2 with a refreshing concentrated group session! \nAn early morning series of 15 minute group sessions in the Atrium  led by founder and artistic director Murray McLachlan.  Open to everyone on the course\,the sessions will include a variety of ‘bite size’ projects\, concepts and exercises relating to piano well-being and mindset as well as glimpses of repertoire.   Embrace the unfamiliar!  Look at well-loved music from different perspectives!  Above all\, start your CIPSS day in style with a real sense of positivity\, energy and optimistic purpose. \nThe atrium
URL:https://pianosummerschool.com/event/early-morning-warm-ups-with-murray-5/
LOCATION:Oglesby Atrium
CATEGORIES:Junior Course,Workshops
END:VEVENT
BEGIN:VEVENT
DTSTART;TZID=Europe/London:20260818T084500
DTEND;TZID=Europe/London:20260818T093000
DTSTAMP:20260421T025312
CREATED:20251115T145134Z
LAST-MODIFIED:20251115T145134Z
UID:6036-1787042700-1787045400@pianosummerschool.com
SUMMARY:Drop in practice  workshop
DESCRIPTION:Start the day with a helpful workshop for everyone who needs a little support with practising. \nEveryone welcome – come along with a bar\, a chord\, or any part of a piece that you would like some advice on from a member of the faculty. \n  \n \n  \n 
URL:https://pianosummerschool.com/event/drop-in-practice-workshop-3/
LOCATION:G06
CATEGORIES:Workshops
END:VEVENT
BEGIN:VEVENT
DTSTART;TZID=Europe/London:20260818T084500
DTEND;TZID=Europe/London:20260818T093000
DTSTAMP:20260421T025312
CREATED:20251130T114129Z
LAST-MODIFIED:20251130T114129Z
UID:6250-1787042700-1787045400@pianosummerschool.com
SUMMARY:Junior Piano Group Class
DESCRIPTION:The daily morning group class – singing\, movement and more before all the individual lessons begin. \n \n  \n  \n 
URL:https://pianosummerschool.com/event/junior-piano-group-class-18/
LOCATION:Oglesby Atrium
CATEGORIES:Junior Course,Workshops
END:VEVENT
BEGIN:VEVENT
DTSTART;TZID=Europe/London:20260818T093000
DTEND;TZID=Europe/London:20260818T101500
DTSTAMP:20260421T025312
CREATED:20251115T133156Z
LAST-MODIFIED:20251115T133156Z
UID:5991-1787045400-1787048100@pianosummerschool.com
SUMMARY:Junior Course 'drop in' practice workshop
DESCRIPTION:Come along with a bar\, or a small section for lots of advice and help to take you into your practice room. Stay for 5 minutes or the whole class – so much can be discovered by listening to everyone. \n \n  \n  \n 
URL:https://pianosummerschool.com/event/junior-course-drop-in-practice-workshop-2/
LOCATION:G06
CATEGORIES:Junior Course,Workshops
END:VEVENT
BEGIN:VEVENT
DTSTART;TZID=Europe/London:20260818T101500
DTEND;TZID=Europe/London:20260818T110000
DTSTAMP:20260421T025312
CREATED:20251121T175952Z
LAST-MODIFIED:20251121T175952Z
UID:6112-1787048100-1787050800@pianosummerschool.com
SUMMARY:Scales and exercises 'drop in' workshop
DESCRIPTION:New for 2026 a daily class focusing on scales and exercises. These drop in classes are suitable for all levels of pianists. \nDiscover how daily scale practice unlocks ease and speed\, while technical exercises strengthen your playing from the ground up. \n \n  \n  \n 
URL:https://pianosummerschool.com/event/scales-and-exercises-drop-in-workshop-4/
LOCATION:G06
CATEGORIES:Junior Course,Workshops
END:VEVENT
BEGIN:VEVENT
DTSTART;TZID=Europe/London:20260818T113000
DTEND;TZID=Europe/London:20260818T130000
DTSTAMP:20260421T025312
CREATED:20251115T162704Z
LAST-MODIFIED:20251115T162835Z
UID:6063-1787052600-1787058000@pianosummerschool.com
SUMMARY:Adult Amateur Workshop
DESCRIPTION:The daily group workshop\, today hosted by Kathryn Page.  Don’t miss out on the opportunity to perform on the beautiful grand piano in front of your new piano family. \n  \n \n  \n 
URL:https://pianosummerschool.com/event/adult-amateur-workshop-19/
LOCATION:G06
CATEGORIES:Workshops
END:VEVENT
BEGIN:VEVENT
DTSTART;TZID=Europe/London:20260818T144500
DTEND;TZID=Europe/London:20260818T153000
DTSTAMP:20260421T025312
CREATED:20251122T145800Z
LAST-MODIFIED:20251122T145800Z
UID:6129-1787064300-1787067000@pianosummerschool.com
SUMMARY:The Art of Four Hands workshop
DESCRIPTION:New for 2026! \nA new daily workshop dedicated to the art of piano duo playing – both duets and 2 pianos. \nBring your duo ready to perform\, or simply enjoy the thrill of sightreading together in a supportive atmosphere.  Everyone welcome – there will always be someone ready to join you at the piano. \nDo drop in and explore the wonderfully rich duo repertoire. \n \n  \n  \n 
URL:https://pianosummerschool.com/event/the-art-of-four-hands-workshop-5/
LOCATION:G06
CATEGORIES:Junior Course,Workshops
END:VEVENT
BEGIN:VEVENT
DTSTART;TZID=Europe/London:20260818T153000
DTEND;TZID=Europe/London:20260818T161500
DTSTAMP:20260421T025312
CREATED:20251115T134406Z
LAST-MODIFIED:20251115T134406Z
UID:5999-1787067000-1787069700@pianosummerschool.com
SUMMARY:Junior Course 'drop in' performance class
DESCRIPTION:Every day Junior Course pianists can enjoy performing on an outstanding grand piano in front of a small and supportive audience\, hosted by a member of the faculty. \n  \n \n  \n  \n 
URL:https://pianosummerschool.com/event/junior-course-drop-in-performance-class-4/
LOCATION:G06
CATEGORIES:Junior Course,Participant Recitals,Workshops
END:VEVENT
BEGIN:VEVENT
DTSTART;TZID=Europe/London:20260818T161500
DTEND;TZID=Europe/London:20260818T170000
DTSTAMP:20260421T025312
CREATED:20251122T175237Z
LAST-MODIFIED:20251122T175237Z
UID:6138-1787069700-1787072400@pianosummerschool.com
SUMMARY:'Drop in' performance class
DESCRIPTION:Join us in a  welcoming space where pianists of all levels can play on a wonderful Grand piano in front of a small\, supportive audience. Guided by a faculty member\, this workshop offers the chance to build confidence\, ease performance nerves\, and celebrate the joy of playing. Everyone welcome. \n \n  \n 
URL:https://pianosummerschool.com/event/drop-in-performance-class-22/
LOCATION:G06
CATEGORIES:Participant Recitals,Workshops
END:VEVENT
BEGIN:VEVENT
DTSTART;TZID=Europe/London:20260819T081500
DTEND;TZID=Europe/London:20260819T083000
DTSTAMP:20260421T025312
CREATED:20250323T172214Z
LAST-MODIFIED:20251115T142203Z
UID:5547-1787127300-1787128200@pianosummerschool.com
SUMMARY:Early Morning Warm Ups with Murray
DESCRIPTION:Murray McLachlan’s  new sessions for all on the course continues apace! \nA  new early morning series of 15 minute group sessions in the Atrium  led by founder and artistic director Murray McLachlan.  Open to everyone on the course\,the sessions will include a variety of ‘bite size’ projects\, concepts and exercises relating to piano well-being and mindset as well as glimpses of repertoire.   Embrace the unfamiliar!  Look at well-loved music from different perspectives!  Above all\, start your CIPSS day in style with a real sense of positivity\, energy and optimistic purpose.
URL:https://pianosummerschool.com/event/early-morning-warm-ups-with-murray-6/
LOCATION:Oglesby Atrium
CATEGORIES:Junior Course,Workshops
END:VEVENT
BEGIN:VEVENT
DTSTART;TZID=Europe/London:20260819T084500
DTEND;TZID=Europe/London:20260819T093000
DTSTAMP:20260421T025312
CREATED:20201113T142700Z
LAST-MODIFIED:20251115T144410Z
UID:2477-1787129100-1787131800@pianosummerschool.com
SUMMARY:Drop in practice workshop
DESCRIPTION:Come along for help with any aspect of playing from a member of the summer school faculty. \n  \n \n  \n  \n  \n 
URL:https://pianosummerschool.com/event/drop-in-practise-clinic-3/
LOCATION:G06
CATEGORIES:Workshops
END:VEVENT
BEGIN:VEVENT
DTSTART;TZID=Europe/London:20260819T084500
DTEND;TZID=Europe/London:20260819T093000
DTSTAMP:20260421T025312
CREATED:20251130T114209Z
LAST-MODIFIED:20251130T114209Z
UID:6243-1787129100-1787131800@pianosummerschool.com
SUMMARY:Junior Piano Group Class
DESCRIPTION:Young participants on the Junior Course meet up for the daily classes in movement\, aural and rhythmic development. Fun guaranteed!
URL:https://pianosummerschool.com/event/junior-piano-group-class-19/
LOCATION:Oglesby Atrium
CATEGORIES:Junior Course,Workshops
END:VEVENT
BEGIN:VEVENT
DTSTART;TZID=Europe/London:20260819T093000
DTEND;TZID=Europe/London:20260819T101500
DTSTAMP:20260421T025312
CREATED:20251115T133258Z
LAST-MODIFIED:20251115T133258Z
UID:5993-1787131800-1787134500@pianosummerschool.com
SUMMARY:Junior Course 'drop in' practice workshop
DESCRIPTION:Come along with a bar\, or a small section for lots of advice and help to take you into your practice room. Stay for 5 minutes or the whole class – so much can be discovered by listening to everyone. \n \n  \n  \n 
URL:https://pianosummerschool.com/event/junior-course-drop-in-practice-workshop-3/
LOCATION:G06
CATEGORIES:Junior Course,Workshops
END:VEVENT
BEGIN:VEVENT
DTSTART;TZID=Europe/London:20260819T101500
DTEND;TZID=Europe/London:20260819T110000
DTSTAMP:20260421T025312
CREATED:20251121T180052Z
LAST-MODIFIED:20251121T180052Z
UID:6114-1787134500-1787137200@pianosummerschool.com
SUMMARY:Scales and exercises 'drop in' workshop
DESCRIPTION:New for 2026 a daily class focusing on scales and exercises. \nJoin a daily workshop where scales and exercises become exciting tools for progress\, unlocking speed\, strength\, and expressive freedom. Learn how to make exercises out of your repertoire and to always find new ways to practise. \nDrop in for 5 minutes or come for the whole class – everyone welcome! \n \n  \n  \n 
URL:https://pianosummerschool.com/event/scales-and-exercises-drop-in-workshop-5/
LOCATION:G06
CATEGORIES:Junior Course,Workshops
END:VEVENT
BEGIN:VEVENT
DTSTART;TZID=Europe/London:20260819T113000
DTEND;TZID=Europe/London:20260819T130000
DTSTAMP:20260421T025312
CREATED:20251115T163428Z
LAST-MODIFIED:20251115T163428Z
UID:6062-1787139000-1787144400@pianosummerschool.com
SUMMARY:Adult Amateur Workshop
DESCRIPTION:The daily group workshop\, today hosted by Philip Fowke!  Don’t miss out on the opportunity to perform on the beautiful grand piano in front of your new piano family. \n \n \n  \n 
URL:https://pianosummerschool.com/event/adult-amateur-workshop-20/
LOCATION:G06
CATEGORIES:Workshops
END:VEVENT
BEGIN:VEVENT
DTSTART;TZID=Europe/London:20260819T144500
DTEND;TZID=Europe/London:20260819T153000
DTSTAMP:20260421T025312
CREATED:20251122T171136Z
LAST-MODIFIED:20251122T171136Z
UID:6130-1787150700-1787153400@pianosummerschool.com
SUMMARY:The Art of Four Hands workshop
DESCRIPTION:New for 2026! \nA new daily workshop dedicated to the art of piano duo playing – both duets and 2 pianos. \nDiabelli\,  Mozart\, Schubert\, Grieg\, Dvorak\,  Brahms\, Ravel\, Debussy\, Faure\, Rachmaninov – so many composers wrote a huge amount for both piano duet and 2 pianos. These new workshops are a chance to come along with a prepared duo\, or simply to enjoy sightreading through some of this amazing repertoire. \nThere will be something for everyone – do bring your own music to share with us and have fun exploring the box of music too. \n Kathryn Stott and Matthew McLachlan \n  \n  \n 
URL:https://pianosummerschool.com/event/the-art-of-four-hands-workshop-6/
LOCATION:G06
CATEGORIES:Junior Course,Workshops
END:VEVENT
BEGIN:VEVENT
DTSTART;TZID=Europe/London:20260819T153000
DTEND;TZID=Europe/London:20260819T161500
DTSTAMP:20260421T025312
CREATED:20221027T152502Z
LAST-MODIFIED:20251115T134455Z
UID:3380-1787153400-1787156100@pianosummerschool.com
SUMMARY:Junior Course 'drop in' performance class
DESCRIPTION:A great opportunity to play on a beautiful grand piano in front of a small\, friendly audience. \n \n 
URL:https://pianosummerschool.com/event/junior-advanced-drop-in-performance-class-8/
LOCATION:G06
CATEGORIES:Junior Course,Participant Recitals,Workshops
END:VEVENT
BEGIN:VEVENT
DTSTART;TZID=Europe/London:20260819T161500
DTEND;TZID=Europe/London:20260819T170000
DTSTAMP:20260421T025312
CREATED:20251115T154049Z
LAST-MODIFIED:20251115T154229Z
UID:6046-1787156100-1787158800@pianosummerschool.com
SUMMARY:'Drop in' performance class
DESCRIPTION:An exciting addition to the course – a daily opportunity to perform and hear other pianists on the course in a very informal performance session\, hosted by a member of the faculty. All welcome. \n \n  \n 
URL:https://pianosummerschool.com/event/drop-in-performance-class-19/
LOCATION:G06
CATEGORIES:Participant Recitals,Workshops
END:VEVENT
BEGIN:VEVENT
DTSTART;TZID=Europe/London:20260820T081500
DTEND;TZID=Europe/London:20260820T083000
DTSTAMP:20260421T025312
CREATED:20250323T171525Z
LAST-MODIFIED:20251115T143534Z
UID:5540-1787213700-1787214600@pianosummerschool.com
SUMMARY:Early Morning Warm Ups with Murray
DESCRIPTION:Flagging with mid-course fatigue? No problem: Wake up early and join Murray for a refreshing warm up session. \nA  new early morning series of 15 minute group sessions in the Atrium  led by founder and artistic director Murray McLachlan.  Open to everyone on the course\, the sessions will include a variety of ‘bite size’ projects\, concepts and exercises relating to piano well-being and mindset as well as glimpses of repertoire.   Embrace the unfamiliar!  Look at well-loved music from different perspectives!  Above all\, start your CIPSS day in style with a real sense of positivity\, energy and optimistic purpose. \n 
URL:https://pianosummerschool.com/event/early-morning-warm-ups-with-murray-3/
LOCATION:Oglesby Atrium
CATEGORIES:Junior Course,Workshops
END:VEVENT
BEGIN:VEVENT
DTSTART;TZID=Europe/London:20260820T084500
DTEND;TZID=Europe/London:20260820T093000
DTSTAMP:20260421T025312
CREATED:20201115T104404Z
LAST-MODIFIED:20251115T144516Z
UID:2479-1787215500-1787218200@pianosummerschool.com
SUMMARY:Drop in practice  workshop
DESCRIPTION:Start the day with a helpful workshop for everyone who needs a little support with practising. \nEveryone welcome – come along with a bar\, a chord\, or any part of a piece that you would like some advice on from a member of the faculty. \n  \n \n  \n 
URL:https://pianosummerschool.com/event/drop-in-practise-clinic-4/
LOCATION:G06
CATEGORIES:Workshops
END:VEVENT
BEGIN:VEVENT
DTSTART;TZID=Europe/London:20260820T084500
DTEND;TZID=Europe/London:20260820T093000
DTSTAMP:20260421T025312
CREATED:20251130T114408Z
LAST-MODIFIED:20251130T114408Z
UID:6242-1787215500-1787218200@pianosummerschool.com
SUMMARY:Junior Piano Group Class
DESCRIPTION:Join your friends for a group workshop session – singing\, movement\, listening and much more to start your day with renewed energy.
URL:https://pianosummerschool.com/event/junior-piano-group-class-20/
LOCATION:Oglesby Atrium
CATEGORIES:Junior Course,Workshops
END:VEVENT
BEGIN:VEVENT
DTSTART;TZID=Europe/London:20260820T093000
DTEND;TZID=Europe/London:20260820T101500
DTSTAMP:20260421T025312
CREATED:20251115T133326Z
LAST-MODIFIED:20251115T133326Z
UID:5994-1787218200-1787220900@pianosummerschool.com
SUMMARY:Junior Course 'drop in' practice workshop
DESCRIPTION:A great way to set up the day with tips on every aspect of piano practising from a member of the faculty. Drop in for 5 minutes or the whole workshop and learn from listening to everyone. Don’t miss this fantastic opportunity! \n \n  \n  \n 
URL:https://pianosummerschool.com/event/junior-course-drop-in-practice-workshop-4/
LOCATION:G06
CATEGORIES:Junior Course,Workshops
END:VEVENT
BEGIN:VEVENT
DTSTART;TZID=Europe/London:20260820T101500
DTEND;TZID=Europe/London:20260820T110000
DTSTAMP:20260421T025312
CREATED:20251121T180150Z
LAST-MODIFIED:20251121T180150Z
UID:6116-1787220900-1787223600@pianosummerschool.com
SUMMARY:Scales and exercises 'drop in' workshop
DESCRIPTION:Join a daily workshop where scales and exercises become exciting tools for progress\, unlocking speed\, strength\, and expressive freedom. Learn how to make exercises out of your repertoire and to always find new ways to practise. \nDrop in for 5 minutes or come for the whole class – everyone welcome! \n \n  \n  \n 
URL:https://pianosummerschool.com/event/scales-and-exercises-drop-in-workshop-6/
LOCATION:G06
CATEGORIES:Junior Course,Workshops
END:VEVENT
BEGIN:VEVENT
DTSTART;TZID=Europe/London:20260820T113000
DTEND;TZID=Europe/London:20260820T130000
DTSTAMP:20260421T025312
CREATED:20221027T141101Z
LAST-MODIFIED:20251115T163602Z
UID:3301-1787225400-1787230800@pianosummerschool.com
SUMMARY:Adult Amateur Workshop
DESCRIPTION:A chance for adult amateur pianists to perform in a relaxed\, encouraging environment with Kathryn Page. Whether you share a single phrase or a complete piece\, you’ll find support in overcoming nerves. \n 
URL:https://pianosummerschool.com/event/adult-amateur-workshop-14/
LOCATION:G06
CATEGORIES:Workshops
END:VEVENT
END:VCALENDAR