BEGIN:VCALENDAR
VERSION:2.0
PRODID:-//Chetham’s International Piano Summer School - ECPv6.0.4//NONSGML v1.0//EN
CALSCALE:GREGORIAN
METHOD:PUBLISH
X-ORIGINAL-URL:https://pianosummerschool.com
X-WR-CALDESC:Events for Chetham’s International Piano Summer School
REFRESH-INTERVAL;VALUE=DURATION:PT1H
X-Robots-Tag:noindex
X-PUBLISHED-TTL:PT1H
BEGIN:VTIMEZONE
TZID:Europe/London
BEGIN:DAYLIGHT
TZOFFSETFROM:+0000
TZOFFSETTO:+0100
TZNAME:BST
DTSTART:20260329T010000
END:DAYLIGHT
BEGIN:STANDARD
TZOFFSETFROM:+0100
TZOFFSETTO:+0000
TZNAME:GMT
DTSTART:20261025T010000
END:STANDARD
END:VTIMEZONE
BEGIN:VEVENT
DTSTART;TZID=Europe/London:20260819T113000
DTEND;TZID=Europe/London:20260819T130000
DTSTAMP:20260421T061248
CREATED:20251115T163428Z
LAST-MODIFIED:20251115T163428Z
UID:6062-1787139000-1787144400@pianosummerschool.com
SUMMARY:Adult Amateur Workshop
DESCRIPTION:The daily group workshop\, today hosted by Philip Fowke!  Don’t miss out on the opportunity to perform on the beautiful grand piano in front of your new piano family. \n \n \n  \n 
URL:https://pianosummerschool.com/event/adult-amateur-workshop-20/
LOCATION:G06
CATEGORIES:Workshops
END:VEVENT
BEGIN:VEVENT
DTSTART;TZID=Europe/London:20260819T144500
DTEND;TZID=Europe/London:20260819T153000
DTSTAMP:20260421T061248
CREATED:20251122T171136Z
LAST-MODIFIED:20251122T171136Z
UID:6130-1787150700-1787153400@pianosummerschool.com
SUMMARY:The Art of Four Hands workshop
DESCRIPTION:New for 2026! \nA new daily workshop dedicated to the art of piano duo playing – both duets and 2 pianos. \nDiabelli\,  Mozart\, Schubert\, Grieg\, Dvorak\,  Brahms\, Ravel\, Debussy\, Faure\, Rachmaninov – so many composers wrote a huge amount for both piano duet and 2 pianos. These new workshops are a chance to come along with a prepared duo\, or simply to enjoy sightreading through some of this amazing repertoire. \nThere will be something for everyone – do bring your own music to share with us and have fun exploring the box of music too. \n Kathryn Stott and Matthew McLachlan \n  \n  \n 
URL:https://pianosummerschool.com/event/the-art-of-four-hands-workshop-6/
LOCATION:G06
CATEGORIES:Junior Course,Workshops
END:VEVENT
BEGIN:VEVENT
DTSTART;TZID=Europe/London:20260819T153000
DTEND;TZID=Europe/London:20260819T161500
DTSTAMP:20260421T061248
CREATED:20221027T152502Z
LAST-MODIFIED:20251115T134455Z
UID:3380-1787153400-1787156100@pianosummerschool.com
SUMMARY:Junior Course 'drop in' performance class
DESCRIPTION:A great opportunity to play on a beautiful grand piano in front of a small\, friendly audience. \n \n 
URL:https://pianosummerschool.com/event/junior-advanced-drop-in-performance-class-8/
LOCATION:G06
CATEGORIES:Junior Course,Participant Recitals,Workshops
END:VEVENT
BEGIN:VEVENT
DTSTART;TZID=Europe/London:20260819T161500
DTEND;TZID=Europe/London:20260819T170000
DTSTAMP:20260421T061248
CREATED:20251115T154049Z
LAST-MODIFIED:20251115T154229Z
UID:6046-1787156100-1787158800@pianosummerschool.com
SUMMARY:'Drop in' performance class
DESCRIPTION:An exciting addition to the course – a daily opportunity to perform and hear other pianists on the course in a very informal performance session\, hosted by a member of the faculty. All welcome. \n \n  \n 
URL:https://pianosummerschool.com/event/drop-in-performance-class-19/
LOCATION:G06
CATEGORIES:Participant Recitals,Workshops
END:VEVENT
BEGIN:VEVENT
DTSTART;TZID=Europe/London:20260820T081500
DTEND;TZID=Europe/London:20260820T083000
DTSTAMP:20260421T061248
CREATED:20250323T171525Z
LAST-MODIFIED:20251115T143534Z
UID:5540-1787213700-1787214600@pianosummerschool.com
SUMMARY:Early Morning Warm Ups with Murray
DESCRIPTION:Flagging with mid-course fatigue? No problem: Wake up early and join Murray for a refreshing warm up session. \nA  new early morning series of 15 minute group sessions in the Atrium  led by founder and artistic director Murray McLachlan.  Open to everyone on the course\, the sessions will include a variety of ‘bite size’ projects\, concepts and exercises relating to piano well-being and mindset as well as glimpses of repertoire.   Embrace the unfamiliar!  Look at well-loved music from different perspectives!  Above all\, start your CIPSS day in style with a real sense of positivity\, energy and optimistic purpose. \n 
URL:https://pianosummerschool.com/event/early-morning-warm-ups-with-murray-3/
LOCATION:Oglesby Atrium
CATEGORIES:Junior Course,Workshops
END:VEVENT
BEGIN:VEVENT
DTSTART;TZID=Europe/London:20260820T084500
DTEND;TZID=Europe/London:20260820T093000
DTSTAMP:20260421T061248
CREATED:20201115T104404Z
LAST-MODIFIED:20251115T144516Z
UID:2479-1787215500-1787218200@pianosummerschool.com
SUMMARY:Drop in practice  workshop
DESCRIPTION:Start the day with a helpful workshop for everyone who needs a little support with practising. \nEveryone welcome – come along with a bar\, a chord\, or any part of a piece that you would like some advice on from a member of the faculty. \n  \n \n  \n 
URL:https://pianosummerschool.com/event/drop-in-practise-clinic-4/
LOCATION:G06
CATEGORIES:Workshops
END:VEVENT
BEGIN:VEVENT
DTSTART;TZID=Europe/London:20260820T084500
DTEND;TZID=Europe/London:20260820T093000
DTSTAMP:20260421T061248
CREATED:20251130T114408Z
LAST-MODIFIED:20251130T114408Z
UID:6242-1787215500-1787218200@pianosummerschool.com
SUMMARY:Junior Piano Group Class
DESCRIPTION:Join your friends for a group workshop session – singing\, movement\, listening and much more to start your day with renewed energy.
URL:https://pianosummerschool.com/event/junior-piano-group-class-20/
LOCATION:Oglesby Atrium
CATEGORIES:Junior Course,Workshops
END:VEVENT
BEGIN:VEVENT
DTSTART;TZID=Europe/London:20260820T093000
DTEND;TZID=Europe/London:20260820T101500
DTSTAMP:20260421T061248
CREATED:20251115T133326Z
LAST-MODIFIED:20251115T133326Z
UID:5994-1787218200-1787220900@pianosummerschool.com
SUMMARY:Junior Course 'drop in' practice workshop
DESCRIPTION:A great way to set up the day with tips on every aspect of piano practising from a member of the faculty. Drop in for 5 minutes or the whole workshop and learn from listening to everyone. Don’t miss this fantastic opportunity! \n \n  \n  \n 
URL:https://pianosummerschool.com/event/junior-course-drop-in-practice-workshop-4/
LOCATION:G06
CATEGORIES:Junior Course,Workshops
END:VEVENT
BEGIN:VEVENT
DTSTART;TZID=Europe/London:20260820T101500
DTEND;TZID=Europe/London:20260820T110000
DTSTAMP:20260421T061248
CREATED:20251121T180150Z
LAST-MODIFIED:20251121T180150Z
UID:6116-1787220900-1787223600@pianosummerschool.com
SUMMARY:Scales and exercises 'drop in' workshop
DESCRIPTION:Join a daily workshop where scales and exercises become exciting tools for progress\, unlocking speed\, strength\, and expressive freedom. Learn how to make exercises out of your repertoire and to always find new ways to practise. \nDrop in for 5 minutes or come for the whole class – everyone welcome! \n \n  \n  \n 
URL:https://pianosummerschool.com/event/scales-and-exercises-drop-in-workshop-6/
LOCATION:G06
CATEGORIES:Junior Course,Workshops
END:VEVENT
BEGIN:VEVENT
DTSTART;TZID=Europe/London:20260820T113000
DTEND;TZID=Europe/London:20260820T130000
DTSTAMP:20260421T061248
CREATED:20221027T141101Z
LAST-MODIFIED:20251115T163602Z
UID:3301-1787225400-1787230800@pianosummerschool.com
SUMMARY:Adult Amateur Workshop
DESCRIPTION:A chance for adult amateur pianists to perform in a relaxed\, encouraging environment with Kathryn Page. Whether you share a single phrase or a complete piece\, you’ll find support in overcoming nerves. \n 
URL:https://pianosummerschool.com/event/adult-amateur-workshop-14/
LOCATION:G06
CATEGORIES:Workshops
END:VEVENT
BEGIN:VEVENT
DTSTART;TZID=Europe/London:20260820T144500
DTEND;TZID=Europe/London:20260820T153000
DTSTAMP:20260421T061248
CREATED:20251122T171235Z
LAST-MODIFIED:20251122T171235Z
UID:6132-1787237100-1787239800@pianosummerschool.com
SUMMARY:The Art of Four Hands workshop
DESCRIPTION:A new daily workshop dedicated to the art of piano duo playing – both duets and 2 pianos. \nBring your duo ready to perform\, or simply enjoy the thrill of sightreading together in a supportive atmosphere.  Everyone welcome – there will always be someone ready to join you at the piano. \nDo drop in and explore the wonderfully rich duo repertoire. \n \nMarie\, Margaret\, Caroline and Douglas performing a world premiere in 2025. \n  \n  \n 
URL:https://pianosummerschool.com/event/the-art-of-four-hands-workshop-7/
LOCATION:G06
CATEGORIES:Junior Course,Workshops
END:VEVENT
BEGIN:VEVENT
DTSTART;TZID=Europe/London:20260820T153000
DTEND;TZID=Europe/London:20260820T161500
DTSTAMP:20260421T061248
CREATED:20251115T134656Z
LAST-MODIFIED:20251115T134656Z
UID:6009-1787239800-1787242500@pianosummerschool.com
SUMMARY:Junior Course 'drop in' performance class
DESCRIPTION:A  wonderful opportunity to perform on a beautiful grand piano in front of a small\, friendly audience. \n \n 
URL:https://pianosummerschool.com/event/junior-course-drop-in-performance-class-5/
LOCATION:G06
CATEGORIES:Junior Course,Participant Recitals,Workshops
END:VEVENT
BEGIN:VEVENT
DTSTART;TZID=Europe/London:20260820T161500
DTEND;TZID=Europe/London:20260820T170000
DTSTAMP:20260421T061248
CREATED:20251115T154345Z
LAST-MODIFIED:20251115T154345Z
UID:6045-1787242500-1787245200@pianosummerschool.com
SUMMARY:'Drop in' performance class
DESCRIPTION:Each day offers a relaxed performance opportunity—play for others\, hear fellow pianists\, and enjoy the supportive atmosphere with a faculty member hosting. \n \n  \n 
URL:https://pianosummerschool.com/event/drop-in-performance-class-20/
LOCATION:G06
CATEGORIES:Participant Recitals,Workshops
END:VEVENT
BEGIN:VEVENT
DTSTART;TZID=Europe/London:20260821T081500
DTEND;TZID=Europe/London:20260821T083000
DTSTAMP:20260421T061248
CREATED:20250323T172602Z
LAST-MODIFIED:20251115T135025Z
UID:5551-1787300100-1787301000@pianosummerschool.com
SUMMARY:Early Morning Warm Ups with Murray
DESCRIPTION:End of course blues?  Don’t worry- you can come back again next year for more inspiration and pianophilia.  Meanwhile\, join Murray for one last time in the final part one cobweb-sweeping session to get your last day off in style!
URL:https://pianosummerschool.com/event/early-morning-warm-ups-with-murray-8/
LOCATION:Oglesby Atrium
CATEGORIES:Junior Course,Workshops
END:VEVENT
BEGIN:VEVENT
DTSTART;TZID=Europe/London:20260821T084500
DTEND;TZID=Europe/London:20260821T093000
DTSTAMP:20260421T061248
CREATED:20221027T135720Z
LAST-MODIFIED:20251115T144703Z
UID:3291-1787301900-1787304600@pianosummerschool.com
SUMMARY:Drop in practice workshop
DESCRIPTION:The final chance to get extra help with any aspect of practising! \nEveryone welcome – come along with a bar\, a chord\, or any part of a piece that you would like some advice on from a member of the faculty. Tips on fingering\, pedaling\, phrasing\, articulation\, voicing etc. \n  \n \n  \n 
URL:https://pianosummerschool.com/event/drop-in-practise-clinic-6/
LOCATION:G06
CATEGORIES:Workshops
END:VEVENT
BEGIN:VEVENT
DTSTART;TZID=Europe/London:20260821T084500
DTEND;TZID=Europe/London:20260821T093000
DTSTAMP:20260421T061248
CREATED:20251130T114537Z
LAST-MODIFIED:20251130T114537Z
UID:6241-1787301900-1787304600@pianosummerschool.com
SUMMARY:Junior Piano Group Class
DESCRIPTION:The final morning group class for all pianists enrolled on the Junior Course. Inspiration and camaraderie as you learn together\, in a supportive and friendly group. \n 
URL:https://pianosummerschool.com/event/junior-piano-group-class-21/
LOCATION:Oglesby Atrium
CATEGORIES:Junior Course,Workshops
END:VEVENT
BEGIN:VEVENT
DTSTART;TZID=Europe/London:20260821T093000
DTEND;TZID=Europe/London:20260821T101500
DTSTAMP:20260421T061248
CREATED:20251115T133429Z
LAST-MODIFIED:20251115T133429Z
UID:5997-1787304600-1787307300@pianosummerschool.com
SUMMARY:Junior Course 'drop in' practice workshop
DESCRIPTION:The final workshop on practising for all Junior Course pianists. Come along with a bar\, or a small section for lots of advice and help to take you into your practice room. Stay for 5 minutes or the whole class – so much can be discovered by listening to everyone. \n \n  \n  \n 
URL:https://pianosummerschool.com/event/junior-course-drop-in-practice-workshop-5/
LOCATION:G06
CATEGORIES:Junior Course,Workshops
END:VEVENT
BEGIN:VEVENT
DTSTART;TZID=Europe/London:20260821T101500
DTEND;TZID=Europe/London:20260821T110000
DTSTAMP:20260421T061248
CREATED:20251121T180242Z
LAST-MODIFIED:20251121T180242Z
UID:6113-1787307300-1787310000@pianosummerschool.com
SUMMARY:Scales and exercises 'drop in' workshop
DESCRIPTION:Come along for the final class on part  two to fuel your progress with a daily workshop devoted to scales and exercises—vital tools for fluency and technical mastery. \nDrop in for 5 minutes or come for the whole class – everyone welcome! \n \n  \n  \n 
URL:https://pianosummerschool.com/event/scales-and-exercises-drop-in-workshop-7/
LOCATION:G06
CATEGORIES:Junior Course,Workshops
END:VEVENT
BEGIN:VEVENT
DTSTART;TZID=Europe/London:20260821T113000
DTEND;TZID=Europe/London:20260821T130000
DTSTAMP:20260421T061248
CREATED:20251115T163936Z
LAST-MODIFIED:20251115T163936Z
UID:6082-1787311800-1787317200@pianosummerschool.com
SUMMARY:Adult Amateur Workshop
DESCRIPTION:Join the wonderful Philip Fowke for the final adult amateur workshop of the 25th \ncourse! Encouragement\, solutions and inspiration guaranteed. \n \n \n  \n 
URL:https://pianosummerschool.com/event/adult-amateur-workshop-21/
LOCATION:G06
CATEGORIES:Workshops
END:VEVENT
BEGIN:VEVENT
DTSTART;TZID=Europe/London:20260821T144500
DTEND;TZID=Europe/London:20260821T153000
DTSTAMP:20260421T061248
CREATED:20251122T171322Z
LAST-MODIFIED:20251122T171322Z
UID:6131-1787323500-1787326200@pianosummerschool.com
SUMMARY:The Art of Four Hands workshop
DESCRIPTION:A new daily workshop dedicated to the art of piano duo playing – both duets and 2 pianos. \nBring your duo ready to perform\, or simply enjoy the thrill of sightreading together in a supportive atmosphere.  Everyone welcome – there will always be someone ready to join you at the piano. \nDo drop in and explore the wonderfully rich duo repertoire. \n  Kathryn Stott and Matthew McLachlan\, 2025 \n  \n  \n 
URL:https://pianosummerschool.com/event/the-art-of-four-hands-workshop-8/
LOCATION:G06
CATEGORIES:Junior Course,Workshops
END:VEVENT
BEGIN:VEVENT
DTSTART;TZID=Europe/London:20260821T153000
DTEND;TZID=Europe/London:20260821T161500
DTSTAMP:20260421T061248
CREATED:20251115T134911Z
LAST-MODIFIED:20251115T134911Z
UID:6011-1787326200-1787328900@pianosummerschool.com
SUMMARY:Junior Course 'drop in' performance class
DESCRIPTION:The final performance class on part two of the course. A  wonderful opportunity to perform on a beautiful grand piano\, provided by Forsyth Music Shop. \n \n 
URL:https://pianosummerschool.com/event/junior-course-drop-in-performance-class-6/
LOCATION:G06
CATEGORIES:Junior Course,Participant Recitals,Workshops
END:VEVENT
BEGIN:VEVENT
DTSTART;TZID=Europe/London:20260821T161500
DTEND;TZID=Europe/London:20260821T170000
DTSTAMP:20260421T061248
CREATED:20251115T154514Z
LAST-MODIFIED:20251115T154514Z
UID:6049-1787328900-1787331600@pianosummerschool.com
SUMMARY:'Drop in' performance class
DESCRIPTION:On the final day\, join us for an informal performance session where pianists can play\, listen\, and reflect together\, guided by a faculty host. \n \n  \n 
URL:https://pianosummerschool.com/event/drop-in-performance-class-21/
LOCATION:G06
CATEGORIES:Participant Recitals,Workshops
END:VEVENT
END:VCALENDAR