BEGIN:VCALENDAR
VERSION:2.0
PRODID:-//Chetham’s International Piano Summer School - ECPv6.0.4//NONSGML v1.0//EN
CALSCALE:GREGORIAN
METHOD:PUBLISH
X-WR-CALNAME:Chetham’s International Piano Summer School
X-ORIGINAL-URL:https://pianosummerschool.com
X-WR-CALDESC:Events for Chetham’s International Piano Summer School
REFRESH-INTERVAL;VALUE=DURATION:PT1H
X-Robots-Tag:noindex
X-PUBLISHED-TTL:PT1H
BEGIN:VTIMEZONE
TZID:Europe/London
BEGIN:DAYLIGHT
TZOFFSETFROM:+0000
TZOFFSETTO:+0100
TZNAME:BST
DTSTART:20200329T010000
END:DAYLIGHT
BEGIN:STANDARD
TZOFFSETFROM:+0100
TZOFFSETTO:+0000
TZNAME:GMT
DTSTART:20201025T010000
END:STANDARD
END:VTIMEZONE
BEGIN:VEVENT
DTSTART;TZID=Europe/London:20200809T090000
DTEND;TZID=Europe/London:20200809T110000
DTSTAMP:20260423T195421
CREATED:20191115T153423Z
LAST-MODIFIED:20191115T153423Z
UID:1261-1596963600-1596970800@pianosummerschool.com
SUMMARY:Advanced course individual lessons
DESCRIPTION:The daily session for individual lessons and practise time. Over 100 practise rooms will ensure everyone has their own piano. \n \n 
URL:https://pianosummerschool.com/event/advanced-course-individual-lessons/
CATEGORIES:Junior Course
END:VEVENT
BEGIN:VEVENT
DTSTART;TZID=Europe/London:20200808T193000
DTEND;TZID=Europe/London:20200808T210000
DTSTAMP:20260423T195421
CREATED:20191116T151827Z
LAST-MODIFIED:20191116T151827Z
UID:1402-1596915000-1596920400@pianosummerschool.com
SUMMARY:Party time!
DESCRIPTION:A chance to get to know everyone on the opening night. Some musical surprises guaranteed.
URL:https://pianosummerschool.com/event/party-time/
CATEGORIES:Junior Course
END:VEVENT
END:VCALENDAR